BEGIN:VCALENDAR
VERSION:2.0
PRODID:-//ChamberMaster//Event Calendar 2.0//EN
METHOD:PUBLISH
X-PUBLISHED-TTL:P3D
REFRESH-INTERVAL:P3D
CALSCALE:GREGORIAN
BEGIN:VEVENT
DTSTART:20120614T210000Z
DTEND:20120614T213000Z
X-MICROSOFT-CDO-ALLDAYEVENT:FALSE
SUMMARY:Barron Equipment Ribbon Cutting
DESCRIPTION:Please help Barron Equipment celebrate their new location with a ribbon cutting on Thursday\, June 14th at 4:00pm.  Location is 4710 N. Brady Street in Davenport (left hand side of Brady) TAG Communications is assisting with the coordination of the event.  I will forward the press release once I receive it. For more information on Barron Equipment\, visit www.barroneq.com
X-ALT-DESC;FMTTYPE=text/html:<DIV style="FONT-FAMILY: Arial"><P style="MARGIN: 0in 0in 0pt" class=MsoNormal><FONT face=Calibri>Please help Barron Equipment celebrate their new location with a ribbon cutting on Thursday\, June 14<SUP>th</SUP> at 4:00pm.<SPAN style="mso-spacerun: yes">&nbsp\; </SPAN>Location is 4710 N. Brady Street in Davenport (left hand side of Brady)</FONT></P><P style="MARGIN: 0in 0in 0pt" class=MsoNormal><?xml:namespace prefix = o ns = "urn:schemas-microsoft-com:office:office" /><o:p><FONT face=Calibri>&nbsp\;</FONT></o:p></P><P style="MARGIN: 0in 0in 0pt" class=MsoNormal><FONT face=Calibri>TAG Communications is assisting with the coordination of the event.<SPAN style="mso-spacerun: yes">&nbsp\; </SPAN>I will forward the press release once I receive it.</FONT></P><P style="MARGIN: 0in 0in 0pt" class=MsoNormal><o:p><FONT face=Calibri>&nbsp\;</FONT></o:p></P><P style="MARGIN: 0in 0in 0pt" class=MsoNormal><FONT face=Calibri>For more information on Barron Equipment\, visit </FONT><A href="http://www.barroneq.com"><FONT face="Times New Roman">www.barroneq.com</FONT></A></P></DIV>
LOCATION:Barron Equipment Company\, Inc.4710 N. Brady St. Davenport\, IA 52806
UID:e.2843.382
SEQUENCE:3
DTSTAMP:20260421T235028Z
URL:https://member.quadcitieschamber.com/events/details/barron-equipment-ribbon-cutting-06-14-2012-382
END:VEVENT

END:VCALENDAR
