BEGIN:VCALENDAR
VERSION:2.0
PRODID:-//ChamberMaster//Event Calendar 2.0//EN
METHOD:PUBLISH
X-PUBLISHED-TTL:P3D
REFRESH-INTERVAL:P3D
CALSCALE:GREGORIAN
BEGIN:VEVENT
DTSTART:20200119T020000Z
DTEND:20200119T070000Z
X-MICROSOFT-CDO-ALLDAYEVENT:FALSE
SUMMARY:Bass Banger at The Rust Belt
DESCRIPTION:Some VIP tickets are still available 15+ vendors with a variety of product 20+ subwoofers directly behind the rail Professional lighting and production Al Ross!! Space Wizard!! Get your tickets now! With support from Smokahauntas\, Jedi Knight\, Cupcaine\, C-Dubbs\, and BassILL!
X-ALT-DESC;FMTTYPE=text/html:Some VIP tickets are still available 15+ vendors with a variety of product 20+ subwoofers directly behind the rail Professional lighting and production Al Ross!! Space Wizard!! Get your tickets now! With support from Smokahauntas\, Jedi Knight\, Cupcaine\, C-Dubbs\, and BassILL!
LOCATION:The Rust Belt 533 12th ave. East Moline\, Illinois 61244
UID:e.2843.17135
SEQUENCE:3
DTSTAMP:20260422T015139Z
URL:https://member.quadcitieschamber.com/events/details/bass-banger-at-the-rust-belt-17135
END:VEVENT

END:VCALENDAR
