BEGIN:VCALENDAR
VERSION:2.0
PRODID:-//ChamberMaster//Event Calendar 2.0//EN
METHOD:PUBLISH
X-PUBLISHED-TTL:P3D
REFRESH-INTERVAL:P3D
CALSCALE:GREGORIAN
BEGIN:VEVENT
DTSTART:20140411T193000Z
DTEND:20140411T200000Z
X-MICROSOFT-CDO-ALLDAYEVENT:FALSE
SUMMARY:Bastola Real Estate Ground Breaking
DESCRIPTION:Bastola Real Estate LLC will host a ground breaking ceremony at 2:30pm on Friday\, April 11th at 114 Myrtle St. Davenport\, IA 52802.  http://mapq.st/1lLcFDP  The ground breaking will be in celebration of Bastola Real Estate's new retail plaza.  Once completed\, the 15\,000 square foot commercial space will house restaurants\, retail stores and more. Tom Flaherty\, Vice President of Community Development\, will be speaking on behalf of the Quad Cities Chamber of Commerce.   Thank you\,
X-ALT-DESC;FMTTYPE=text/html:<FONT face=Calibri><SPAN style="FONT-FAMILY: 'Calibri'\,'sans-serif'\; FONT-SIZE: 11pt\; mso-fareast-font-family: 'Times New Roman'\; mso-bidi-font-family: 'Times New Roman'\; mso-ansi-language: EN-US\; mso-fareast-language: EN-US\; mso-bidi-language: AR-SA"><P style="MARGIN: 0in 0in 0pt" class=MsoNormal><P style="MARGIN: 0in 0in 0pt" class=MsoNormal></P></SPAN></FONT><FONT face=Calibri><P style="MARGIN: 0in 0in 0pt" class=MsoNormal>Bastola Real Estate LLC will host a ground breaking ceremony at 2:30pm on Friday\, April 11<SUP>th</SUP> at 114 Myrtle St. Davenport\, IA 52802.<SPAN style="mso-spacerun: yes">&nbsp\; </SPAN><A href="http://mapq.st/1lLcFDP"><FONT color=#0000ff face="Times New Roman">http://mapq.st/1lLcFDP</FONT></A> <?xml:namespace prefix = o ns = "urn:schemas-microsoft-com:office:office" /><o:p></o:p></P><P style="MARGIN: 0in 0in 0pt" class=MsoNormal><o:p>&nbsp\;</o:p></P><P style="MARGIN: 0in 0in 0pt" class=MsoNormal>The ground breaking will be in celebration of Bastola Real Estate's new retail plaza.<SPAN style="mso-spacerun: yes">&nbsp\; </SPAN>Once completed\, the 15\,000 square foot commercial space will house restaurants\, retail stores and more.<o:p></o:p></P><P style="MARGIN: 0in 0in 0pt" class=MsoNormal><o:p>&nbsp\;</o:p></P><P style="MARGIN: 0in 0in 0pt" class=MsoNormal>Tom Flaherty\, Vice President of Community Development\, will be speaking on behalf of the Quad Cities Chamber of Commerce.<SPAN style="mso-spacerun: yes">&nbsp\; </SPAN><o:p></o:p></P><P style="MARGIN: 0in 0in 0pt" class=MsoNormal><o:p>&nbsp\;</o:p></P><P style="MARGIN: 0in 0in 0pt" class=MsoNormal>Thank you\, <o:p></o:p></P><P style="MARGIN: 0in 0in 0pt" class=MsoNormal></FONT>&nbsp\;</P>
LOCATION:Bastola Real Estate114 Myrtle Street Davenport\, IA 52802
UID:e.2843.787
SEQUENCE:3
DTSTAMP:20260422T080522Z
URL:https://member.quadcitieschamber.com/events/details/bastola-real-estate-ground-breaking-04-11-2014-787
END:VEVENT

END:VCALENDAR
