BEGIN:VCALENDAR
VERSION:2.0
PRODID:-//ChamberMaster//Event Calendar 2.0//EN
METHOD:PUBLISH
X-PUBLISHED-TTL:P3D
REFRESH-INTERVAL:P3D
CALSCALE:GREGORIAN
BEGIN:VEVENT
DTSTART:20250823T140000Z
DTEND:20250823T220000Z
X-MICROSOFT-CDO-ALLDAYEVENT:FALSE
SUMMARY:BBBS Over the Edge
DESCRIPTION:A life-changing experience that allows YOU to make a positive impact in our community! BBBS along with presenting sponsors\, Active Endeavors and Bitco Insurance Companies\, are thrilled to be hosting the 8th annual Over the Edge in the Quad Cities. Over the Edge is truly a unique fundraiser\, that is held all across the country in effort to support and raise important funds for non-profits. Specifically to BBBS\, this event has an enormous and immediate impact on one-to-one youth mentoring\, providing key dollars to help BBBS grow and enhance their services and programs for children facing adversity in the Quad Cities. On event day\, over the course of eight hours with two ropes\, BBBS is preparing to send a total of 100 people Over the Edge. COME JOIN THE EXCITEMENT! Watch individuals rappel\, cheer them on\, listen to the DJ\, support BBBS!
X-ALT-DESC;FMTTYPE=text/html:A life-changing experience that allows YOU to make a positive impact in our community! BBBS along with presenting sponsors\, Active Endeavors and Bitco Insurance Companies\, are thrilled to be hosting the 8th annual Over the Edge in the Quad Cities. Over the Edge is truly a unique fundraiser\, that is held all across the country in effort to support and raise important funds for non-profits. Specifically to BBBS\, this event has an enormous and immediate impact on one-to-one youth mentoring\, providing key dollars to help BBBS grow and enhance their services and programs for children facing adversity in the Quad Cities. On event day\, over the course of eight hours with two ropes\, BBBS is preparing to send a total of 100 people Over the Edge. COME JOIN THE EXCITEMENT! Watch individuals rappel\, cheer them on\, listen to the DJ\, support BBBS!
LOCATION:Hotel Blackhawk 200 E. 3rd Street Davenport\, IA 52801
UID:e.2843.23967
SEQUENCE:3
DTSTAMP:20260425T031235Z
URL:https://member.quadcitieschamber.com/events/details/bbbs-over-the-edge-23967
END:VEVENT

END:VCALENDAR
