BEGIN:VCALENDAR
VERSION:2.0
PRODID:-//ChamberMaster//Event Calendar 2.0//EN
METHOD:PUBLISH
X-PUBLISHED-TTL:P3D
REFRESH-INTERVAL:P3D
CALSCALE:GREGORIAN
BEGIN:VEVENT
DTSTART:20210317T050000Z
DTEND:20210420T045500Z
X-MICROSOFT-CDO-ALLDAYEVENT:FALSE
SUMMARY:BBBS PLANT SALE - PRE-ORDERING
DESCRIPTION:The 2021 Big Brothers Big Sisters Plant Sale is now open for ordering plants for your business\, group or for yourself! Beautiful\, annual plants and flowers for your garden or facility beautification projects.  Great selection\, great prices and superb quality.  Flats\, half flats\, potted plants and hanging baskets.  Also the opportunity to donate a hanging basket to an essential worker or senior in a nursing home. Plants will be available for pick up (Northwest Bank & Trust in Davenport\, IA) or delivery (for orders of $50 or more) May 5-7. \n\nOrdering options include:\n\n\n\nCORPORATE ORDERS: Businesses\, municipalities or organizations place corporate orders to beautify their facilities or property entrances\, walkways and terraces. \n\n\n\nGROUP ORDERS: Gather your employees\, members or neighbors together and place a GROUP ORDER.  The beauty of a group order is that no matter what the amount ordered\, all flowers will be delivered to one location and separated into their individual orders. \n\n\n\nINDIVIDUAL ORDERS: Anyone can order from the BBBS Plant Sale.  Any individual order of $50 or more (within the Quad Cities) will be delivered at no charge to your home or other designated location.  Order for your garden or beautification project\, or order some hanging baskets for your mom\, a teacher or a friend. \n\n\n\nGo to www.plantsale.org and download your group order information\, corporate or individual order forms.\n\n(Group orders\, please email Ally at asweeeney@bbbs-mv.org to get more details). \n\n\n\nHELP BIG BROTHERS BIG SISTERS GROW POTENTIAL IN QUAD CITY AREA KIDS!  BUY PLANTS FROM THE BBBS PLANT SALE! Order by April 19th.
X-ALT-DESC;FMTTYPE=text/html:<span style="color:#333333"><span style="font-family:arial\,sans-serif"><span style="font-size:10.0pt">The <strong>2021 Big Brothers Big Sisters Plant Sale</strong> is now open for ordering plants for your business\, group or for yourself! Beautiful\, annual plants and flowers for your garden or facility beautification projects.&nbsp\; Great selection\, great prices and superb quality.&nbsp\; Flats\, half flats\, potted plants and hanging baskets.&nbsp\; Also the opportunity to donate a hanging basket to an essential worker or senior in a nursing home. Plants will be available for pick up (Northwest Bank &amp\; Trust in Davenport\, IA) or delivery (for orders of $50 or more) May 5-7.&nbsp\;</span></span></span><br />\n<span style="color:#333333"><span style="font-family:arial\,sans-serif"><span style="font-size:10.0pt">Ordering options include:</span></span></span><br />\n<br />\n<span style="color:#333333"><span style="font-family:arial\,sans-serif"><span style="font-size:10.0pt"><strong><span style="font-family:arial\,sans-serif">CORPORATE ORDERS:</span></strong>&nbsp\;Businesses\, municipalities or organizations place corporate orders to beautify their facilities or property entrances\, walkways and terraces.&nbsp\;</span></span></span><br />\n<br />\n<span style="color:#333333"><span style="font-family:arial\,sans-serif"><span style="font-size:10.0pt"><strong><span style="font-family:arial\,sans-serif">GROUP ORDERS:</span></strong>&nbsp\;Gather your employees\, members or neighbors together and place a GROUP ORDER.&nbsp\; The beauty of a group order is that no matter what the amount ordered\, all flowers will be delivered to one location and separated into their individual orders.&nbsp\;</span></span></span><br />\n<br />\n<span style="color:#333333"><span style="font-family:arial\,sans-serif"><span style="font-size:10.0pt"><strong><span style="font-family:arial\,sans-serif">INDIVIDUAL ORDERS:</span></strong>&nbsp\;Anyone can order from the BBBS Plant Sale.&nbsp\; Any individual order of $50 or more (within the Quad Cities) will be delivered at no charge to your home or other designated location.&nbsp\; Order for your garden or beautification project\, or order some hanging baskets for your mom\, a teacher or a friend.&nbsp\;<br />\n<br />\nGo to&nbsp\;</span></span></span><a href="http://www.plantsale.org/"><span style="color:#0782C1"><span style="font-family:arial\,sans-serif"><span style="font-size:10.0pt">www.plantsale.org</span></span></span></a><span style="color:#333333"><span style="font-family:arial\,sans-serif"><span style="font-size:10.0pt">&nbsp\;and download your group order information\, corporate or individual order forms.</span></span></span><br />\n<span style="color:#333333"><span style="font-family:arial\,sans-serif"><span style="font-size:10.0pt">(Group orders\, please email Ally at <a href="mailto:asweeeney@bbbs-mv.org">asweeeney@bbbs-mv.org</a> to get more details).&nbsp\;</span></span></span><br />\n<br />\n<span style="color:#333333"><span style="font-family:arial\,sans-serif"><span style="font-size:10.0pt">HELP BIG BROTHERS BIG SISTERS GROW POTENTIAL IN QUAD CITY AREA KIDS!&nbsp\; BUY PLANTS FROM THE BBBS PLANT SALE! </span></span></span><span style="color:#FF0000"><span style="font-family:arial\,sans-serif"><span style="font-size:10.0pt"><strong>Order by April 19th.&nbsp\;</strong></span></span></span><br />\n&nbsp\;
LOCATION:PICK UP ORDERS (if desired) at: Northwest Bank and Trust\, 100 E. Kimberly at Welcome Way in Davenport\, IA
UID:e.2843.18783
SEQUENCE:3
DTSTAMP:20260421T014425Z
URL:https://member.quadcitieschamber.com/events/details/bbbs-plant-sale-pre-ordering-18783
END:VEVENT

END:VCALENDAR
