BEGIN:VCALENDAR
VERSION:2.0
PRODID:-//ChamberMaster//Event Calendar 2.0//EN
METHOD:PUBLISH
X-PUBLISHED-TTL:P3D
REFRESH-INTERVAL:P3D
CALSCALE:GREGORIAN
BEGIN:VEVENT
DTSTART:20131206T140000Z
DTEND:20131206T143000Z
X-MICROSOFT-CDO-ALLDAYEVENT:FALSE
SUMMARY:Beauty Brands Grand Opening Ribbon Cutting
DESCRIPTION:Beauty Brands\, located at 4201 Elmore Ave. Davenport\, IA 52807\, will host their grand opening with a ribbon cutting on Friday\, December 6th at 8:00am.   Anne Spoden\, Innovation and Talent Coordinator\, will be speaking on behalf of the Quad Cities Chamber of Commerce. Beauty Brands is a one-stop shop for all of your beauty supplies needs.  The new store will carry everything from hair care products\, prestige skincare products\, makeup \, nail care products and more.  Beauty Brands will also have a full-service salon and spa.   The store will be open Monday-Friday\, from 8:00am-9:00pm\, and Sunday from 10:00am-6:00pm.  For more information\, please visit www.beautybrands.com.
X-ALT-DESC;FMTTYPE=text/html:<P style="MARGIN: 0in 0in 0pt" class=MsoNormal><P style="MARGIN: 0in 0in 0pt" class=MsoNormal><FONT face=Calibri>Beauty Brands\, <B style="mso-bidi-font-weight: normal">located at 4201 Elmore Ave. Davenport\, IA 52807</B>\, will host their grand opening with a ribbon cutting on <B style="mso-bidi-font-weight: normal">Friday\, December 6<SUP>th</SUP> at 8:00am</B>.<SPAN style="mso-spacerun: yes">&nbsp\; </SPAN><?xml:namespace prefix = o ns = "urn:schemas-microsoft-com:office:office" /><o:p></o:p></FONT></P><P style="MARGIN: 0in 0in 0pt" class=MsoNormal><o:p><FONT face=Calibri>&nbsp\;</FONT></o:p></P><P style="MARGIN: 0in 0in 0pt" class=MsoNormal><FONT face=Calibri>Anne Spoden\, Innovation and Talent Coordinator\, will be speaking on behalf of the Quad Cities Chamber of Commerce.<o:p></o:p></FONT></P><P style="MARGIN: 0in 0in 0pt" class=MsoNormal><o:p><FONT face=Calibri>&nbsp\;</FONT></o:p></P><P style="MARGIN: 0in 0in 0pt" class=MsoNormal><FONT face=Calibri>Beauty Brands is a one-stop shop for all of your beauty supplies needs.<SPAN style="mso-spacerun: yes">&nbsp\; </SPAN>The new store will carry everything from hair care products\, prestige skincare products\, makeup \, nail care products and more.<SPAN style="mso-spacerun: yes">&nbsp\; </SPAN>Beauty Brands will also have a full-service salon and spa.<SPAN style="mso-spacerun: yes">&nbsp\; </SPAN><o:p></o:p></FONT></P><P style="MARGIN: 0in 0in 0pt" class=MsoNormal><o:p><FONT face=Calibri>&nbsp\;</FONT></o:p></P><P style="MARGIN: 0in 0in 0pt" class=MsoNormal><FONT face=Calibri>The store will be open Monday-Friday\, from 8:00am-9:00pm\, and Sunday from 10:00am-6:00pm.<SPAN style="mso-spacerun: yes">&nbsp\; </SPAN>For more information\, please visit </FONT><A href="http://www.beautybrands.com">www.beautybrands.com</A><FONT face=Calibri>.<SPAN style="mso-spacerun: yes">&nbsp\;&nbsp\; </SPAN></FONT><o:p></o:p></P><P>&nbsp\;</P>
LOCATION:Beauty Brands (Salon Spa Superstore)4201 Elmore Ave. Davenport\, IA 52807
UID:e.2843.750
SEQUENCE:3
DTSTAMP:20260422T013511Z
URL:https://member.quadcitieschamber.com/events/details/beauty-brands-grand-opening-ribbon-cutting-12-06-2013-750
END:VEVENT

END:VCALENDAR
