BEGIN:VCALENDAR
VERSION:2.0
PRODID:-//ChamberMaster//Event Calendar 2.0//EN
METHOD:PUBLISH
X-PUBLISHED-TTL:P3D
REFRESH-INTERVAL:P3D
CALSCALE:GREGORIAN
BEGIN:VEVENT
DTSTART:20170914T170000Z
DTEND:20170914T180000Z
X-MICROSOFT-CDO-ALLDAYEVENT:FALSE
SUMMARY:Belly Dance With Bez!
DESCRIPTION:Come to the Main Library for a belly dancing demonstration from Bez Lancial! She'll present a short history/intro to what belly dance is\, show some isolation techniques used to execute the movement\, and end with some follow along dancing. \n\nBez has been a belly dancer instructor and performer in the Quad Cities since 2012. She runs two troupes\,  mate and Rueza\, both of which can be seen dancing throughout the area: Venus Envy\, PrideFest... also Rueza just performed in Chicago! She currently teaches at Studio Mezik and can be seen performing at Belly Dance shows\, haflas\, and sometimes with drum band Sentinel Grove. Her training is based on Classical Belly Dance\, which she has mentored under Jasmin Jahal in Chicago.\n\n\n\n?
X-ALT-DESC;FMTTYPE=text/html:<p>Come to the Main Library for a belly dancing demonstration from Bez Lancial! She&#39\;ll present a short history/intro to what belly dance is\, show some isolation techniques used to execute the movement\, and end with some follow along dancing.&nbsp\;</p>\n\n<p>Bez has been a belly dancer instructor and performer in the Quad Cities since 2012. She runs two troupes\, &Aacute\;mate and Rueza\, both of which can be seen dancing throughout the area: Venus Envy\, PrideFest... also Rueza just performed in Chicago! She currently teaches at Studio Mezik and can be seen performing at Belly Dance shows\, haflas\, and sometimes with drum band Sentinel Grove. Her training is based on Classical Belly Dance\, which she has mentored under Jasmin Jahal in Chicago.<br />\n<br />\n?</p>\n
LOCATION:The Library | Main St. 321 Main Street Davenport\, IA 52803
UID:e.2843.6335
SEQUENCE:3
DTSTAMP:20260424T144212Z
URL:https://member.quadcitieschamber.com/events/details/belly-dance-with-bez-6335
END:VEVENT

END:VCALENDAR
