BEGIN:VCALENDAR
VERSION:2.0
PRODID:-//ChamberMaster//Event Calendar 2.0//EN
METHOD:PUBLISH
X-PUBLISHED-TTL:P3D
REFRESH-INTERVAL:P3D
CALSCALE:GREGORIAN
BEGIN:VEVENT
DTSTART:20170315T160000Z
DTEND:20170318T045500Z
X-MICROSOFT-CDO-ALLDAYEVENT:FALSE
SUMMARY:Bent River Brewery's 20th Anniversary Bash
DESCRIPTION:Come celebrate twenty years of GETTING BENT! with Bent River Brewing Company in Moline! The party starts with throwback prices on all Bent River beers and ends with St. Paddy's Day food and drink specials like no other--including our Oaked Irish Stout. Guest bartenders\, giveaways and special-release beers will make this event unforgettable for new and old fans alike!
X-ALT-DESC;FMTTYPE=text/html:Come celebrate twenty years of GETTING BENT! with Bent River Brewing Company in Moline! The party starts with throwback prices on all Bent River beers and ends with St. Paddy&rsquo\;s Day food and drink specials like no other--including our Oaked Irish Stout. Guest bartenders\, giveaways and special-release beers will make this event unforgettable for new and old fans alike!
LOCATION:Bent River Brewing Co. Brew Pub 1413 5th Avenue\, Moline
UID:e.2843.4742
SEQUENCE:3
DTSTAMP:20260424T054823Z
URL:https://member.quadcitieschamber.com/events/details/bent-river-brewery-s-20th-anniversary-bash-4742
END:VEVENT

END:VCALENDAR
