BEGIN:VCALENDAR
VERSION:2.0
PRODID:-//ChamberMaster//Event Calendar 2.0//EN
METHOD:PUBLISH
X-PUBLISHED-TTL:P3D
REFRESH-INTERVAL:P3D
CALSCALE:GREGORIAN
BEGIN:VEVENT
DTSTART:20121002T163000Z
DTEND:20121002T170000Z
X-MICROSOFT-CDO-ALLDAYEVENT:FALSE
SUMMARY:Best Western Airport Inn Ribbon Cutting
DESCRIPTION:Please help celebrate the renovations at the Best Western Airport Inn with a ribbon cutting on Tuesday\, October 2nd at 11:30am.  Located at 2550 52nd Avenue in Moline. Although the Best Western Airport Inn has been here for 20 years\, you would never know it.  When you walk in\, it looks and smells like it was just built yesterday.  This has been a very well kept hotel.  The owners\, Kanti Bhakta and Hasu Patel\, believe in putting back into the business whatever it takes to keep it top quality.  The staff at the Best Western is very professional.  The Best Western Brand also stays on top of things and has met the needs of the hotels.  With the industry ever changing to meet the needs of guests who expect more for their dollar\, Best Western gives the hotels room to grow and maintain the quality expected by our guests.  Quality\, Value and Sincerity is what the Best Western Airport Inn offers its business partners and guests.
X-ALT-DESC;FMTTYPE=text/html:<P style="MARGIN: 0in 0in 0pt" class=MsoNormal><FONT face=Calibri>Please help celebrate the renovations at the Best Western Airport Inn with a ribbon cutting on Tuesday\, October 2<SUP>nd</SUP> at 11:30am.<SPAN style="mso-spacerun: yes">&nbsp\; </SPAN>Located at 2550 52<SUP>nd</SUP> Avenue in Moline.</FONT></P><P style="MARGIN: 0in 0in 0pt" class=MsoNormal><?xml:namespace prefix = o ns = "urn:schemas-microsoft-com:office:office" /><o:p><FONT face=Calibri>&nbsp\;</FONT></o:p></P><P style="MARGIN: 0in 0in 0pt" class=MsoNormal><FONT face=Calibri>Although the Best Western Airport Inn has been here for 20 years\, you would never know it.<SPAN style="mso-spacerun: yes">&nbsp\; </SPAN>When you walk in\, it looks and smells like it was just built yesterday.<SPAN style="mso-spacerun: yes">&nbsp\; </SPAN>This has been a very well kept hotel.<SPAN style="mso-spacerun: yes">&nbsp\; </SPAN>The owners\, Kanti Bhakta and Hasu Patel\, believe in putting back into the business whatever it takes to keep it top quality.<SPAN style="mso-spacerun: yes">&nbsp\; </SPAN>The staff at the Best Western is very professional.<SPAN style="mso-spacerun: yes">&nbsp\; </SPAN>The Best Western Brand also stays on top of things and has met the needs of the hotels.<SPAN style="mso-spacerun: yes">&nbsp\; </SPAN>With the industry ever changing to meet the needs of guests who expect more for their dollar\, Best Western gives the hotels room to grow and maintain the quality expected by our guests.<SPAN style="mso-spacerun: yes">&nbsp\; </SPAN>Quality\, Value and Sincerity is what the Best Western Airport Inn offers its business partners and guests.</FONT></P><DIV>&nbsp\;</DIV>
LOCATION:Best Western Airport Inn2550 52nd Avenue Moline\, IL 61265
UID:e.2843.439
SEQUENCE:3
DTSTAMP:20260421T170601Z
URL:https://member.quadcitieschamber.com/events/details/best-western-airport-inn-ribbon-cutting-10-02-2012-439
END:VEVENT

END:VCALENDAR
