BEGIN:VCALENDAR
VERSION:2.0
PRODID:-//ChamberMaster//Event Calendar 2.0//EN
METHOD:PUBLISH
X-PUBLISHED-TTL:P3D
REFRESH-INTERVAL:P3D
CALSCALE:GREGORIAN
BEGIN:VEVENT
DTSTART:20120614T230000Z
DTEND:20120615T010000Z
X-MICROSOFT-CDO-ALLDAYEVENT:FALSE
SUMMARY:Bettendorf Business Summit
DESCRIPTION:Bettendorf Business Summit Share your ideas to help take the City of Bettendorf business community to the next level. Sponsored by Bettendorf Development Corporation
X-ALT-DESC;FMTTYPE=text/html:<DIV align=center>Bettendorf Business Summit</DIV><DIV align=center>&nbsp\;</DIV><DIV align=center>Share your ideas to help take the City of Bettendorf business community to the next level.</DIV><DIV align=center>&nbsp\;</DIV><DIV align=center>Sponsored by Bettendorf Development Corporation</DIV>
LOCATION:Davenport Country Club25500 Valley Drive Bettendorf\, IA 52722
UID:e.2843.389
SEQUENCE:3
DTSTAMP:20260421T234915Z
URL:https://member.quadcitieschamber.com/events/details/bettendorf-business-summit-06-14-2012-389
END:VEVENT

END:VCALENDAR
