BEGIN:VCALENDAR
VERSION:2.0
PRODID:-//ChamberMaster//Event Calendar 2.0//EN
METHOD:PUBLISH
X-PUBLISHED-TTL:P3D
REFRESH-INTERVAL:P3D
CALSCALE:GREGORIAN
BEGIN:VEVENT
DTSTART:20130315T213000Z
DTEND:20130315T220000Z
X-MICROSOFT-CDO-ALLDAYEVENT:FALSE
SUMMARY:Bettendorf Community School District Ribbon Cutting
DESCRIPTION:Please help the Bettendorf Community School District celebrate the BCSD new admin center\, BHS performing arts center and other projects with a ribbon cutting on Friday\, March 15th at 4:30pm.  Located at 3333 18th Street in Bettendorf – high school new addition. Tentative schedule for the day:Performances by BCSD Elementary Schools and Bettendorf Middle School (throughout the day)4:30pm – Ribbon Cutting5:00 – 6:30pm Facility Tours7:30pm – Performances by High School Fine Arts EnsemblesReception immediately following For more information regarding the school district\, please visit www.bettendorf.k12.ia.us
X-ALT-DESC;FMTTYPE=text/html:<P style="MARGIN: 0in 0in 0pt" class=MsoNormal><FONT face=Calibri>Please help the Bettendorf Community School District celebrate the BCSD new admin center\, BHS performing arts center and other projects with a ribbon cutting on Friday\, March 15<SUP>th</SUP> at 4:30pm.<SPAN style="mso-spacerun: yes">&nbsp\; </SPAN>Located at 3333 18<SUP>th</SUP> Street in Bettendorf – high school new addition.</FONT></P><P style="MARGIN: 0in 0in 0pt" class=MsoNormal><?xml:namespace prefix = o ns = "urn:schemas-microsoft-com:office:office" /><o:p><FONT face=Calibri>&nbsp\;</FONT></o:p></P><P style="MARGIN: 0in 0in 0pt" class=MsoNormal><FONT face=Calibri>Tentative schedule for the day:</FONT></P><P style="MARGIN: 0in 0in 0pt" class=MsoNormal><FONT face=Calibri>Performances by BCSD Elementary Schools and Bettendorf Middle School (throughout the day)</FONT></P><P style="MARGIN: 0in 0in 0pt" class=MsoNormal><FONT face=Calibri>4:30pm – Ribbon Cutting</FONT></P><P style="MARGIN: 0in 0in 0pt" class=MsoNormal><FONT face=Calibri>5:00 – 6:30pm Facility Tours</FONT></P><P style="MARGIN: 0in 0in 0pt" class=MsoNormal><FONT face=Calibri>7:30pm – Performances by High School Fine Arts Ensembles</FONT></P><P style="MARGIN: 0in 0in 0pt" class=MsoNormal><FONT face=Calibri>Reception immediately following</FONT></P><P style="MARGIN: 0in 0in 0pt" class=MsoNormal><o:p><FONT face=Calibri>&nbsp\;</FONT></o:p></P><P style="MARGIN: 0in 0in 0pt" class=MsoNormal><FONT face=Calibri>For more information regarding the school district\, please visit </FONT><A href="http://www.bettendorf.k12.ia.us"><FONT face="Times New Roman">www.bettendorf.k12.ia.us</FONT></A><FONT face=Calibri> </FONT></P><DIV>&nbsp\;</DIV>
LOCATION:Bettendorf Community Schools3333 18th Street Bettendorf\, IA 52722
UID:e.2843.519
SEQUENCE:3
DTSTAMP:20260421T105218Z
URL:https://member.quadcitieschamber.com/events/details/bettendorf-community-school-district-ribbon-cutting-03-15-2013-519
END:VEVENT

END:VCALENDAR
