BEGIN:VCALENDAR
VERSION:2.0
PRODID:-//ChamberMaster//Event Calendar 2.0//EN
METHOD:PUBLISH
X-PUBLISHED-TTL:P3D
REFRESH-INTERVAL:P3D
CALSCALE:GREGORIAN
BEGIN:VEVENT
DTSTART:20111014T003000Z
DTEND:20111014T013000Z
X-MICROSOFT-CDO-ALLDAYEVENT:FALSE
SUMMARY:Bettendorf Mayoral Candidate Forum
DESCRIPTION:This moderated forum will allow our members to hear from the candidates who are running for Mayor\, City of Bettendorf.  Registration begins at 7:00 am.  Forum begins at 7:30 am.  There is no cost to attend this event.
X-ALT-DESC;FMTTYPE=text/html:<DIV><P style="MARGIN: 0in 0in 0pt" class=MsoNormal>This moderated forum will allow our members to hear from the candidates who are running for Mayor\, City of Bettendorf. </P><P style="MARGIN: 0in 0in 0pt" class=MsoNormal>&nbsp\;</P><P style="MARGIN: 0in 0in 0pt" class=MsoNormal>Registration begins at 7:00 am.&nbsp\; Forum begins at 7:30 am.&nbsp\; There is no cost to attend this event.</P><P style="MARGIN: 0in 0in 0pt" class=MsoNormal><FONT size=4></FONT>&nbsp\;</P></DIV>
LOCATION:HomeRidge Inn & Suites909 Middle Rd. Bettendorf\, IA 52722
UID:e.2843.240
SEQUENCE:3
DTSTAMP:20260422T125041Z
URL:https://member.quadcitieschamber.com/events/details/bettendorf-mayoral-candidate-forum-10-13-2011-240
END:VEVENT

END:VCALENDAR
