BEGIN:VCALENDAR
VERSION:2.0
PRODID:-//ChamberMaster//Event Calendar 2.0//EN
METHOD:PUBLISH
X-PUBLISHED-TTL:P3D
REFRESH-INTERVAL:P3D
CALSCALE:GREGORIAN
BEGIN:VEVENT
DTSTART:20140305T180000Z
DTEND:20140305T190000Z
X-MICROSOFT-CDO-ALLDAYEVENT:FALSE
SUMMARY:Bettendorf State of the City Address 2014
DESCRIPTION:
X-ALT-DESC;FMTTYPE=text/html:
LOCATION:Quad-Cities Waterfront Convention Center2021 State Street Bettendorf\, IA 52722
UID:e.2843.779
SEQUENCE:3
DTSTAMP:20260422T061708Z
URL:https://member.quadcitieschamber.com/events/details/bettendorf-state-of-the-city-address-2014-779
END:VEVENT

END:VCALENDAR
