BEGIN:VCALENDAR
VERSION:2.0
PRODID:-//ChamberMaster//Event Calendar 2.0//EN
METHOD:PUBLISH
X-PUBLISHED-TTL:P3D
REFRESH-INTERVAL:P3D
CALSCALE:GREGORIAN
BEGIN:VEVENT
DTSTART:20170215T173000Z
DTEND:20170215T190000Z
X-MICROSOFT-CDO-ALLDAYEVENT:FALSE
SUMMARY:Bettendorf State of the City Address 2017
DESCRIPTION:*Registration for Bettendorf's State of the City closed at 12 p.m. on Tuesday\, February 14th.\n\n\n\nThe State of the City Address will be held on Wednesday\, February 15\, 2017 at the Waterfront Convention Center\, 2021 State Street. Opening remarks and lunch begin at 11:30 a.m. Mayor Robert Gallagher will present the State of the City Address at approximately 12:15 p.m.  \n\nThe public is invited to attend the luncheon and/or the State of the City Address. Lunch is $10 per person/pay at the door. They can attend only the presentation if they do not want to pay for the lunch.\n\nThe State of the City address is an annual presentation by the Mayor of Bettendorf bringing government officials\, business owners\, civic leaders\, and residents together to reflect on City accomplishments from the past year and to review plans for the future.\n\nIf you have any questions regarding this event please contact Laura Haldeman at lhaldeman@bettendorf.org.
X-ALT-DESC;FMTTYPE=text/html:<div style="FONT-FAMILY: Arial">\n<p><span style="font-size:16px\;"><span style="color: rgb(0\, 0\, 0)\; letter-spacing: -0.2px\;">*Registration for Bettendorf&#39\;s State of the City closed at 12 p.m. on Tuesday\, February&nbsp\;</span>14th<span style="color: rgb(0\, 0\, 0)\; letter-spacing: -0.2px\;">.</span></span><br />\n<br />\n<span style="font-size:16px\;"><span style="font-family:arial\;"><span style="color: rgb(13\, 13\, 13)\;"><strong><span style="font-weight: normal\; color: rgb(13\, 13\, 13)\;">The State of the City Address will be held on Wednesday\, February 15\, 2017 at the Waterfront Convention Center\, 2021 State Street.&nbsp\;Opening remarks and lunch begin at 11:30 a.m. Mayor Robert Gallagher will present the State of the City Address at approximately 12:15 p.m.&nbsp\; </span></strong></span></span></span></p>\n\n<p><span style="font-size:16px\;"><span style="font-family:arial\;"><span style="color: rgb(13\, 13\, 13)\;"><strong><span style="font-weight: normal\; color: rgb(13\, 13\, 13)\;">The public is invited to attend the luncheon and/or the State of the City Address. </span></strong><span style="color: rgb(13\, 13\, 13)\;">Lunch is $10 per person/pay at the door. They can attend only the presentation if they do not want to pay for the lunch.</span></span></span></span></p>\n\n<p><span style="font-size:16px\;"><span style="font-family:arial\;"><span style="color: rgb(13\, 13\, 13)\;"><font color="#000000">The State of the City address is an annual presentation by the Mayor of Bettendorf bringing government officials\, business owners\, civic leaders\, and residents together to reflect on City accomplishments from the past year and to review plans for the future.</font></span></span></span></p>\n\n<p class="MsoNormal" style="MARGIN: 0in 0in 10pt"><span style="font-size:16px\;"><span style="font-family:arial\;"><span style="color: rgb(13\, 13\, 13)\;"><span style="BACKGROUND: white\; COLOR: black\; mso-ascii-font-family: Calibri\; mso-hansi-font-family: Calibri"><font color="#ff0000">If you have any questions regarding this event please contact Laura Haldeman at lhaldeman@bettendorf.org.</font></span></span></span></span></p>\n</div>\n
LOCATION:Quad-Cities Waterfront Convention Center 2021 State Street Bettendorf\, IA 52722
UID:e.2843.4522
SEQUENCE:3
DTSTAMP:20260424T070812Z
URL:https://member.quadcitieschamber.com/events/details/bettendorf-state-of-the-city-address-2017-4522
END:VEVENT

END:VCALENDAR
