BEGIN:VCALENDAR
VERSION:2.0
PRODID:-//ChamberMaster//Event Calendar 2.0//EN
METHOD:PUBLISH
X-PUBLISHED-TTL:P3D
REFRESH-INTERVAL:P3D
CALSCALE:GREGORIAN
BEGIN:VEVENT
DTSTART:20121016T183000Z
DTEND:20121016T190000Z
X-MICROSOFT-CDO-ALLDAYEVENT:FALSE
SUMMARY:Better Business Bureau Ribbon Cutting
DESCRIPTION:Please join the Better Business Bureau as they celebrate their expansion with a ribbon cutting on Tuesday\, October 16th\, 2012 at 1:30pm.  Located at 2435 Kimberly Rd – north of Hobby Lobby\, south building The Quad Cities BBB is a 100 year old organization.  The office is growing to serve consumers and accredited businesses in the area.  Since 1912\, the BBB has held businesses accountable to the highest standards of integrity.  Services offered by the BBB are business reviews\, dispute resolution and mediation\, advertising reviews\, consumer and business education\, business self regulation and charity reviews. For more information\, visit www.iowa.bbb.org
X-ALT-DESC;FMTTYPE=text/html:<P style="MARGIN: 0in 0in 0pt" class=MsoNormal><FONT face=Calibri>Please join the Better Business Bureau as they celebrate their expansion with a ribbon cutting on Tuesday\, October 16<SUP>th</SUP>\, 2012 at 1:30pm.<SPAN style="mso-spacerun: yes">&nbsp\; </SPAN>Located at 2435 Kimberly Rd – north of Hobby Lobby\, south building</FONT></P><P style="MARGIN: 0in 0in 0pt" class=MsoNormal><?xml:namespace prefix = o ns = "urn:schemas-microsoft-com:office:office" /><o:p><FONT face=Calibri>&nbsp\;</FONT></o:p></P><P style="MARGIN: 0in 0in 0pt" class=MsoNormal><FONT face=Calibri>The Quad Cities BBB is a 100 year old organization.<SPAN style="mso-spacerun: yes">&nbsp\; </SPAN>The office is growing to serve consumers and accredited businesses in the area.<SPAN style="mso-spacerun: yes">&nbsp\; </SPAN>Since 1912\, the BBB has held businesses accountable to the highest standards of integrity.<SPAN style="mso-spacerun: yes">&nbsp\; </SPAN>Services offered by the BBB are business reviews\, dispute resolution and mediation\, advertising reviews\, consumer and business education\, business self regulation and charity reviews.</FONT></P><P style="MARGIN: 0in 0in 0pt" class=MsoNormal><o:p><FONT face=Calibri>&nbsp\;</FONT></o:p></P><P style="MARGIN: 0in 0in 0pt" class=MsoNormal><FONT face=Calibri>For more information\, visit </FONT><A href="http://www.iowa.bbb.org">www.iowa.bbb.org</A><FONT face=Calibri> </FONT></P><DIV style="FONT-FAMILY: Arial">&nbsp\;</DIV>
LOCATION:Better Business Bureau2435 Kimberly Rd.\, Ste. 260 Bettendorf\, IA 52722
UID:e.2843.431
SEQUENCE:3
DTSTAMP:20260421T183730Z
URL:https://member.quadcitieschamber.com/events/details/better-business-bureau-ribbon-cutting-10-16-2012-431
END:VEVENT

END:VCALENDAR
