BEGIN:VCALENDAR
VERSION:2.0
PRODID:-//ChamberMaster//Event Calendar 2.0//EN
METHOD:PUBLISH
X-PUBLISHED-TTL:P3D
REFRESH-INTERVAL:P3D
CALSCALE:GREGORIAN
BEGIN:VEVENT
DTSTART:20191129T144500Z
DTEND:20191129T170000Z
X-MICROSOFT-CDO-ALLDAYEVENT:FALSE
SUMMARY:Bike and Browse at Cycle Time powered by Live Active 563
DESCRIPTION:Join us Black Friday to shop and ride at Cycle Time powered by Live Active 563! Your first ride is always free! \n\n\n\nDoors open at 8:45 am to browse the clothing line Zyia! \n\n\n\nAt 9:30 the ride will start! Enjoy a virtual indoor cycling experience and get your sweat on! Burn off all those turkey day calories. \n\n\n\n10:15 the shopping resumes. \n\n\n\nOur host will have items for you to try while exercising if you chose!
X-ALT-DESC;FMTTYPE=text/html:Join us Black Friday to shop and ride at Cycle Time powered by Live Active 563! Your first ride is always free!&nbsp\;<br />\n<br />\nDoors open at 8:45 am to browse the clothing line Zyia!&nbsp\;<br />\n<br />\nAt 9:30 the ride will start! Enjoy a virtual indoor cycling experience and get your sweat on! Burn off all those turkey day calories.&nbsp\;<br />\n<br />\n10:15 the shopping resumes.&nbsp\;<br />\n<br />\nOur host will have items for you to try while exercising if you chose!&nbsp\;
LOCATION:Cycle Time powered by Live Active 563 911 40th Ave Bettendorf\, IA 52722
UID:e.2843.17132
SEQUENCE:3
DTSTAMP:20260422T083336Z
URL:https://member.quadcitieschamber.com/events/details/bike-and-browse-at-cycle-time-powered-by-live-active-563-17132
END:VEVENT

END:VCALENDAR
