BEGIN:VCALENDAR
VERSION:2.0
PRODID:-//ChamberMaster//Event Calendar 2.0//EN
METHOD:PUBLISH
X-PUBLISHED-TTL:P3D
REFRESH-INTERVAL:P3D
CALSCALE:GREGORIAN
BEGIN:VEVENT
DTSTART:20131011T210000Z
DTEND:20131011T213000Z
X-MICROSOFT-CDO-ALLDAYEVENT:FALSE
SUMMARY:Billy Puckett State Farm Agency Grand Opening
DESCRIPTION:Please join Billy Puckett State Farm Agency in celebrating the grand opening of their new location on Friday\, October 11th at 4:00 p.m. – Located at 210 18th St. Rock Island\, IL 61201.  http://mapq.st/17HD9eR.  Billy Puckett State Farm Agency provides insurance and financial services including auto\, home\, ventures\, condo\, life and health.  For more information\, please visit  http://www.callmebilly.com/.  Thank You\,
X-ALT-DESC;FMTTYPE=text/html:<DIV style="FONT-FAMILY: Arial"><P style="MARGIN: 0in 0in 0pt" class=MsoNormal><FONT face=Calibri>Please join Billy Puckett State Farm Agency in celebrating the grand opening of their new location on <B style="mso-bidi-font-weight: normal">Friday\, October 11<SUP>th</SUP> at 4:00 p.m.</B> – Located at 210 18<SUP>th</SUP> St. Rock Island\, IL 61201.<SPAN style="mso-spacerun: yes">&nbsp\; </SPAN></FONT><A href="http://mapq.st/17HD9eR"><FONT face="Times New Roman">http://mapq.st/17HD9eR</FONT></A><FONT face=Calibri>. <?xml:namespace prefix = o ns = "urn:schemas-microsoft-com:office:office" /><o:p></o:p></FONT></P><P style="MARGIN: 0in 0in 0pt" class=MsoNormal><o:p><FONT face=Calibri>&nbsp\;</FONT></o:p></P><P style="MARGIN: 0in 0in 0pt" class=MsoNormal><FONT face=Calibri>Billy Puckett State Farm Agency provides insurance and financial services including auto\, home\, ventures\, condo\, life and health. <o:p></o:p></FONT></P><P style="MARGIN: 0in 0in 0pt" class=MsoNormal><o:p><FONT face=Calibri>&nbsp\;</FONT></o:p></P><P style="MARGIN: 0in 0in 0pt" class=MsoNormal><FONT face=Calibri>For more information\, please visit<SPAN style="mso-spacerun: yes">&nbsp\; </SPAN></FONT><A href="http://www.callmebilly.com/"><FONT face="Times New Roman">http://www.callmebilly.com/</FONT></A><FONT face=Calibri>. <o:p></o:p></FONT></P><P style="MARGIN: 0in 0in 0pt" class=MsoNormal><FONT face=Calibri><SPAN style="mso-spacerun: yes">&nbsp\;</SPAN><o:p></o:p></FONT></P><P style="MARGIN: 0in 0in 0pt" class=MsoNormal><FONT face=Calibri>Thank You\, <o:p></o:p></FONT></P></DIV>
LOCATION:State Farm Insurance - Billy Puckett\, Agent210 18th St. Rock Island\, IL 61201
UID:e.2843.686
SEQUENCE:3
DTSTAMP:20260421T202336Z
URL:https://member.quadcitieschamber.com/events/details/billy-puckett-state-farm-agency-grand-opening-10-11-2013-686
END:VEVENT

END:VCALENDAR
