BEGIN:VCALENDAR
VERSION:2.0
PRODID:-//ChamberMaster//Event Calendar 2.0//EN
METHOD:PUBLISH
X-PUBLISHED-TTL:P3D
REFRESH-INTERVAL:P3D
CALSCALE:GREGORIAN
BEGIN:VEVENT
DTSTART:20170803T160000Z
DTEND:20170803T190000Z
X-MICROSOFT-CDO-ALLDAYEVENT:FALSE
SUMMARY:Bix Porch Party + Reading of "Finding Bix" by author Brendan Wolfe!
DESCRIPTION:Head downtown on Thursday\, August 3rd from 11:00 AM to 1:00 PM where folks will be dancin' in the street! Don Estes and the Prairie Ramblers\, with the help of Bos Sound\, will be playing live jazz for the Davenport Public Library's annual Bix Porch Party at the Main Street Library (321 Main Street). Bring your lawn chairs as we block off Main Street for some good old-fashioned fun.\n\n\n\nWhile you're enjoying the live music\, kids can enjoy activities including FREE face painting from Laura Anderson of Clown-A-Round! Teen Volunteer Council will be providing hot dogs and lemonade\, welcoming any donations that will go toward enriching the teen experience at the Davenport Public Library.\n\n\n\nBut wait: there's more! At 1:00 pm in the Large Meeting Room located on the lower level of the library\, author of the new Bix Biederbecke biography ?Finding Bix\, ?will do a short reading & signing of his new book! How cool is that?
X-ALT-DESC;FMTTYPE=text/html:Head downtown on Thursday\, August 3rd from 11:00 AM to 1:00 PM where folks will be dancin&rsquo\; in the street! Don Estes and the Prairie Ramblers\, with the help of Bos Sound\, will be playing live jazz for the Davenport Public Library&rsquo\;s annual Bix Porch Party at the Main Street Library (321 Main Street). Bring your lawn chairs as we block off Main Street for some good old-fashioned fun.<br />\n<br />\nWhile you&#39\;re enjoying the live music\, kids can enjoy activities including FREE face painting from Laura Anderson of Clown-A-Round!&nbsp\;Teen Volunteer Council will be providing hot dogs and lemonade\, welcoming any donations that will go toward enriching the teen experience at the Davenport Public Library.<br />\n<br />\nBut wait: there&#39\;s more! At 1:00 pm in the Large Meeting Room located on the lower level of the library\, author of the new Bix Biederbecke biography <em>?Finding Bix\, </em>?will do a short reading &amp\; signing of his new book! How cool is that?\n<div>&nbsp\;</div>\n<br />\n<br />\n&nbsp\;
LOCATION:Main Street Library 321 Main Street Davenport\, Iowa 52801
UID:e.2843.6067
SEQUENCE:3
DTSTAMP:20260424T002907Z
URL:https://member.quadcitieschamber.com/events/details/bix-porch-party-6067
END:VEVENT

END:VCALENDAR
