BEGIN:VCALENDAR
VERSION:2.0
PRODID:-//ChamberMaster//Event Calendar 2.0//EN
METHOD:PUBLISH
X-PUBLISHED-TTL:P3D
REFRESH-INTERVAL:P3D
CALSCALE:GREGORIAN
BEGIN:VEVENT
DTSTART:20140605T163000Z
DTEND:20140605T173000Z
X-MICROSOFT-CDO-ALLDAYEVENT:FALSE
SUMMARY:Black Hawk College\, Adult Learning Center Grand Opening Ribbon Cutting
DESCRIPTION:Black Hawk College will host a ribbon cutting ceremony and open house to celebrate the opening of their new Adult Learning Center.  The ceremony will take place at 4610 Blackhawk Commons Drive in Rock Island on Thursday\, June 5th at 11:30am. For more information please visit www.bhc.edu or email publicrelations@bhc.edu.
X-ALT-DESC;FMTTYPE=text/html:<FONT face=Calibri><P style="MARGIN: 0in 0in 0pt" class=MsoNormal></P><P></FONT></P><FONT face=Calibri><?xml:namespace prefix = o ns = "urn:schemas-microsoft-com:office:office" /><o:p><P style="MARGIN: 0in 0in 0pt" class=MsoNormal>Black Hawk College will host a ribbon cutting ceremony and open house to celebrate the opening of their new Adult Learning Center.<SPAN style="mso-spacerun: yes">&nbsp\; </SPAN>The ceremony will take place at 4610 Blackhawk Commons Drive in Rock Island on Thursday\, June 5<SUP>th</SUP> at 11:30am.<o:p></o:p></P><P style="MARGIN: 0in 0in 0pt" class=MsoNormal><o:p>&nbsp\;</o:p></P><P style="MARGIN: 0in 0in 0pt" class=MsoNormal>For more information please visit <A href="http://www.bhc.edu"><FONT color=#0000ff>www.bhc.edu</FONT></A> or email <A href="mailto:publicrelations@bhc.edu"><FONT color=#0000ff>publicrelations@bhc.edu</FONT></A>.<o:p></o:p></P><P style="MARGIN: 0in 0in 0pt" class=MsoNormal></o:p></FONT></P>
LOCATION:Black Hawk College6600 34th Avenue Moline\, IL 61265
UID:e.2843.809
SEQUENCE:3
DTSTAMP:20260422T111738Z
URL:https://member.quadcitieschamber.com/events/details/black-hawk-college-adult-learning-center-grand-opening-ribbon-cutting-06-05-2014-809
END:VEVENT

END:VCALENDAR
