BEGIN:VCALENDAR
VERSION:2.0
PRODID:-//ChamberMaster//Event Calendar 2.0//EN
METHOD:PUBLISH
X-PUBLISHED-TTL:P3D
REFRESH-INTERVAL:P3D
CALSCALE:GREGORIAN
BEGIN:VEVENT
DTSTART:20130920T223000Z
DTEND:20130920T230000Z
X-MICROSOFT-CDO-ALLDAYEVENT:FALSE
SUMMARY:Black Hawk College Foundation
DESCRIPTION:Please join the Black Hawk College Foundation in celebrating the unveiling of their Donor Wall Dedication.  The Black Hawk College Foundation will also be Introducing the Foundation’s new Executive Director\, Rose Mary Boesen.  This event will take place on Friday\, September 20th at 5:30 p.m.  Located at 6600 34th Avenue\, Moline\, IL 61265.  http://mapq.st/1659Gji.  There will be a social hour from 4:30-5:30pm.   The Black Hawk College Foundation is a 501(c)(3) tax-exempt charitable organization that is governed by a volunteer board of directors.  The Foundation currently holds assets $2.5 million.  Endowed funds encompass $2.1 million of those fund.  For more information\, please visit www.foundation.bhc.edu.
X-ALT-DESC;FMTTYPE=text/html:<DIV style="FONT-FAMILY: Arial"><P style="MARGIN: 0in 0in 0pt" class=MsoNormal><FONT face=Calibri>Please join the Black Hawk College Foundation in celebrating the unveiling of their Donor Wall Dedication.<SPAN style="mso-spacerun: yes">&nbsp\; </SPAN>The Black Hawk College Foundation will also be Introducing the Foundation’s new Executive Director\, Rose Mary Boesen.<SPAN style="mso-spacerun: yes">&nbsp\; </SPAN>This event will take place on <B style="mso-bidi-font-weight: normal">Friday\, September 20<SUP>th</SUP> at 5:30 p.m.</B> <SPAN style="mso-spacerun: yes">&nbsp\;</SPAN>Located at 6600 34<SUP>th</SUP> Avenue\, Moline\, IL 61265.&nbsp\; </FONT><A href="http://mapq.st/1659Gji"><FONT face="Times New Roman">http://mapq.st/1659Gji</FONT></A><FONT face=Calibri>.<SPAN style="mso-spacerun: yes">&nbsp\; </SPAN>There will be a social hour from 4:30-5:30pm.<SPAN style="mso-spacerun: yes">&nbsp\; </SPAN><?xml:namespace prefix = o ns = "urn:schemas-microsoft-com:office:office" /><o:p></o:p></FONT></P><P style="MARGIN: 0in 0in 0pt" class=MsoNormal><o:p><FONT face=Calibri>&nbsp\;</FONT></o:p></P><P style="MARGIN: 0in 0in 0pt" class=MsoNormal><FONT face=Calibri>The Black Hawk College Foundation is a 501(c)(3) tax-exempt charitable organization that is governed by a volunteer board of directors.<SPAN style="mso-spacerun: yes">&nbsp\; </SPAN>The Foundation currently holds assets $2.5 million.<SPAN style="mso-spacerun: yes">&nbsp\; </SPAN>Endowed funds encompass $2.1 million of those fund. <o:p></o:p></FONT></P><P style="MARGIN: 0in 0in 0pt" class=MsoNormal><o:p><FONT face=Calibri>&nbsp\;</FONT></o:p></P><P style="MARGIN: 0in 0in 0pt" class=MsoNormal><FONT face=Calibri>For more information\, please visit </FONT><A href="http://www.foundation.bhc.edu"><FONT face="Times New Roman">www.foundation.bhc.edu</FONT></A><FONT face=Calibri>. <o:p></o:p></FONT></P><P style="MARGIN: 0in 0in 0pt" class=MsoNormal><FONT face=Calibri><SPAN style="mso-spacerun: yes">&nbsp\;</SPAN><o:p></o:p></FONT></P><P style="MARGIN: 0in 0in 0pt" class=MsoNormal><FONT face=Calibri></FONT>&nbsp\;</P></DIV>
LOCATION:Black Hawk College6600 34th Avenue Moline\, IL 61265
UID:e.2843.692
SEQUENCE:3
DTSTAMP:20260421T183446Z
URL:https://member.quadcitieschamber.com/events/details/black-hawk-college-foundation-09-20-2013-692
END:VEVENT

END:VCALENDAR
