BEGIN:VCALENDAR
VERSION:2.0
PRODID:-//ChamberMaster//Event Calendar 2.0//EN
METHOD:PUBLISH
X-PUBLISHED-TTL:P3D
REFRESH-INTERVAL:P3D
CALSCALE:GREGORIAN
BEGIN:VEVENT
DTSTART:20190610T170000Z
DTEND:20190610T230000Z
X-MICROSOFT-CDO-ALLDAYEVENT:FALSE
SUMMARY:Black Hawk College Foundation & Athletics Golf Outing
DESCRIPTION:Black Hawk College Foundation and BHC Athletics Department invite you to join us for a four-person scramble golf event at the beautiful Short Hills Golf Course located in East Moline. The Athletic teams and Black Hawk College Foundation support Black Hawk College student-athletes by providing scholarships for students in need and emergency funds. So please join us for a fun day in the support of a great cause\, with golf and raffle prizes! Noon to 6:00pm Sign up now. We have a 30 team (120 golfers) capacity for the event. Registration deadline is May 20\, 2019. Entry Fee includes: Green fees Cart Rental Range use Box lunch Beverage ticket After-play buffet Other goodies Eagle Sponsor - $ 1000 $500 athletic scholarship named for your company for 2019-2020 Includes one foursome Signage on hole Recognition on tournament flyer Recognition on sponsors' banner Boxed lunches and BBQ buffet Birdie Sponsor - $500 Includes one foursome Signage on hole Recognition on tournament flyer Recognition on sponsors' banner Boxed lunches and BBQ buffet Par Sponsor - $100 Signage on sponsored hole
X-ALT-DESC;FMTTYPE=text/html:Black Hawk College Foundation and BHC Athletics Department invite you to join us for a four-person scramble golf event at the beautiful Short Hills Golf Course located in East Moline. The Athletic teams and Black Hawk College Foundation support Black Hawk College student-athletes by providing scholarships for students in need and emergency funds. So please join us for a fun day in the support of a great cause\, with golf and raffle prizes! Noon to 6:00pm Sign up now. We have a 30 team (120 golfers) capacity for the event. Registration deadline is May 20\, 2019. Entry Fee includes: Green fees Cart Rental Range use Box lunch Beverage ticket After-play buffet Other goodies Eagle Sponsor - $ 1000 $500 athletic scholarship named for your company for 2019-2020 Includes one foursome Signage on hole Recognition on tournament flyer Recognition on sponsors&#39\; banner Boxed lunches and BBQ buffet Birdie Sponsor - $500 Includes one foursome Signage on hole Recognition on tournament flyer Recognition on sponsors&#39\; banner Boxed lunches and BBQ buffet Par Sponsor - $100 Signage on sponsored hole
LOCATION:Short Hills Country Club 2500 11th Street East Moline\, IL 61244
UID:e.2843.14336
SEQUENCE:3
DTSTAMP:20260422T131448Z
URL:https://member.quadcitieschamber.com/events/details/black-hawk-college-foundation-athletics-golf-outing-06-10-2019-14336
END:VEVENT

END:VCALENDAR
