BEGIN:VCALENDAR
VERSION:2.0
PRODID:-//ChamberMaster//Event Calendar 2.0//EN
METHOD:PUBLISH
X-PUBLISHED-TTL:P3D
REFRESH-INTERVAL:P3D
CALSCALE:GREGORIAN
BEGIN:VEVENT
DTSTART:20120926T221500Z
DTEND:20120926T224500Z
X-MICROSOFT-CDO-ALLDAYEVENT:FALSE
SUMMARY:Black Hawk College Ribbon Cutting
DESCRIPTION:Please help Black Hawk College celebrate the new Sustainable Technologies Building with a ribbon cutting on Wednesday\, September 26th at 5:15pm.  Meet the Faculty and Tours from 4pm to 5pm.  Located at 6600 34th Avenue in Moline – enter from 70th St and park in Lot 1
X-ALT-DESC;FMTTYPE=text/html:<P style="MARGIN: 0in 0in 0pt" class=MsoNormal><FONT face=Calibri>Please help Black Hawk College celebrate the new Sustainable Technologies Building with a ribbon cutting on Wednesday\, September 26<SUP>th</SUP> at 5:15pm.<SPAN style="mso-spacerun: yes">&nbsp\; </SPAN>Meet the Faculty and Tours from 4pm to 5pm.<SPAN style="mso-spacerun: yes">&nbsp\; </SPAN>Located at 6600 34<SUP>th</SUP> Avenue in Moline – enter from 70<SUP>th</SUP> St and park in Lot 1</FONT></P><DIV>&nbsp\;</DIV>
LOCATION:Black Hawk College6600 34th Avenue Moline\, IL 61265
UID:e.2843.441
SEQUENCE:3
DTSTAMP:20260421T201426Z
URL:https://member.quadcitieschamber.com/events/details/black-hawk-college-ribbon-cutting-09-26-2012-441
END:VEVENT

END:VCALENDAR
