BEGIN:VCALENDAR
VERSION:2.0
PRODID:-//ChamberMaster//Event Calendar 2.0//EN
METHOD:PUBLISH
X-PUBLISHED-TTL:P3D
REFRESH-INTERVAL:P3D
CALSCALE:GREGORIAN
BEGIN:VEVENT
DTSTART:20120530T150000Z
DTEND:20120530T153000Z
X-MICROSOFT-CDO-ALLDAYEVENT:FALSE
SUMMARY:Black Hawk College Student Services Center
DESCRIPTION:Black Hawk College invites you to attend the groundbreaking ceremony for the new Student Services Center.Wednesday\, May 30 at 10 a.m. Building 1\, Lower Lobby For more information regarding Black Hawk College\, visit www.bhc.edu.
X-ALT-DESC;FMTTYPE=text/html:<DIV style="FONT-FAMILY: Arial"><P style="MARGIN: 0in 0in 0pt" class=MsoNormal><FONT face=Calibri>Black Hawk College invites you to attend the groundbreaking ceremony for the new Student Services Center.</FONT></P><P style="MARGIN: 0in 0in 0pt" class=MsoNormal><FONT face=Calibri>Wednesday\, May 30<SUP> </SUP>at 10 a.m. Building 1\, Lower Lobby</FONT></P><P style="MARGIN: 0in 0in 0pt" class=MsoNormal><FONT face=Calibri></FONT>&nbsp\;</P><P style="MARGIN: 0in 0in 0pt" class=MsoNormal><FONT face=Calibri>For more information regarding Black Hawk College\, visit </FONT><A href="http://www.bhc.edu"><FONT face="Times New Roman">www.bhc.edu</FONT></A>.</P></DIV>
LOCATION:Black Hawk College\, Building 1\, Lower Lobby6600 34th Avenue Moline\, IL 61265
UID:e.2843.384
SEQUENCE:3
DTSTAMP:20260422T012923Z
URL:https://member.quadcitieschamber.com/events/details/black-hawk-college-student-services-center-05-30-2012-384
END:VEVENT

END:VCALENDAR
