BEGIN:VCALENDAR
VERSION:2.0
PRODID:-//ChamberMaster//Event Calendar 2.0//EN
METHOD:PUBLISH
X-PUBLISHED-TTL:P3D
REFRESH-INTERVAL:P3D
CALSCALE:GREGORIAN
BEGIN:VEVENT
DTSTART;VALUE=DATE:20190314
DTEND;VALUE=DATE:20190315
TRANSP:TRANSPARENT
X-MICROSOFT-CDO-ALLDAYEVENT:TRUE
SUMMARY:Bloodborne Pathogens in Industry #1238
DESCRIPTION:There are numerous pathogens that can be transmitted by contacting the blood or body fluids of an infected individual. This training is designed to inform workers on how to prevent exposure to bloodborne pathogens\, how to react in emergency situations involving bloodborne pathogens\, how to properly decontaminate a site\, and what to do if a worker is exposed. This training will also cover proper labeling of potentially infectious materials and proper disposal of sharps and other potentially infectious waste. Call Eastern Iowa Community Colleges at 563.441.4100 to register.
X-ALT-DESC;FMTTYPE=text/html:There are numerous pathogens that can be transmitted by contacting the blood or body fluids of an infected individual. This training is designed to inform workers on how to prevent exposure to bloodborne pathogens\, how to react in emergency situations involving bloodborne pathogens\, how to properly decontaminate a site\, and what to do if a worker is exposed. This training will also cover proper labeling of potentially infectious materials and proper disposal of sharps and other potentially infectious waste. Call Eastern Iowa Community Colleges at 563.441.4100 to register.
LOCATION:EICC Midwest Center for Public Safety Training\, 8200 N. Fairmount\, Davenport\, IA 52806
UID:e.2843.13840
SEQUENCE:3
DTSTAMP:20260422T182250Z
URL:https://member.quadcitieschamber.com/events/details/bloodborne-pathogens-in-industry-1238-13840
END:VEVENT

END:VCALENDAR
