BEGIN:VCALENDAR
VERSION:2.0
PRODID:-//ChamberMaster//Event Calendar 2.0//EN
METHOD:PUBLISH
X-PUBLISHED-TTL:P3D
REFRESH-INTERVAL:P3D
CALSCALE:GREGORIAN
BEGIN:VEVENT
DTSTART:20120330T143000Z
DTEND:20120330T150000Z
X-MICROSOFT-CDO-ALLDAYEVENT:FALSE
SUMMARY:Blue Sky Gifts Ribbon Cutting & 5-Year Anniversary
DESCRIPTION:Please help Blue Sky Gifts celebrate their 5-year anniversary with a ribbon cutting on Friday\, March 30th at 9:45am.   The address is 1018 Mound Street in the Village of East Davenport (just north of SENB).   Blue Sky Gifts has something for everyone!  They specialize in the most unique gifts at great prices!! They also were awarded the best gift shop in the Quad City Times 2011 Reader’s Poll! For more information\, visit www.villageofeastdavenport.com/Blue-Sky-Gifts.php
X-ALT-DESC;FMTTYPE=text/html:<DIV><FONT face=Calibri><P style="MARGIN: 0in 0in 0pt" class=MsoNormal><SPAN style="FONT-FAMILY: 'Trebuchet MS'\,'sans-serif'\; FONT-SIZE: 10pt\; mso-fareast-font-family: 'Times New Roman'">Please help Blue Sky Gifts celebrate their 5-year anniversary with a ribbon cutting on Friday\, March 30<SUP>th</SUP> at <B style="mso-bidi-font-weight: normal">9:45am.<SPAN style="mso-spacerun: yes">&nbsp\; </SPAN></B><?xml:namespace prefix = o ns = "urn:schemas-microsoft-com:office:office" /><o:p></o:p></SPAN></P><P style="MARGIN: 0in 0in 0pt" class=MsoNormal><SPAN style="FONT-FAMILY: 'Trebuchet MS'\,'sans-serif'\; FONT-SIZE: 10pt\; mso-fareast-font-family: 'Times New Roman'">&nbsp\;<o:p></o:p></SPAN></P><P style="MARGIN: 0in 0in 0pt" class=MsoNormal><SPAN style="FONT-FAMILY: 'Trebuchet MS'\,'sans-serif'\; FONT-SIZE: 10pt\; mso-fareast-font-family: 'Times New Roman'">The address is 1018 Mound Street in the Village of East Davenport (just north of SENB).<SPAN style="mso-spacerun: yes">&nbsp\; </SPAN><o:p></o:p></SPAN></P><P style="MARGIN: 0in 0in 0pt" class=MsoNormal><SPAN style="FONT-FAMILY: 'Trebuchet MS'\,'sans-serif'\; FONT-SIZE: 10pt\; mso-fareast-font-family: 'Times New Roman'"><o:p>&nbsp\;</o:p></SPAN></P><P style="MARGIN: 0in 0in 0pt" class=MsoNormal><SPAN style="FONT-FAMILY: 'Trebuchet MS'\,'sans-serif'\; FONT-SIZE: 10pt\; mso-fareast-font-family: 'Times New Roman'">Blue Sky Gifts has something for everyone!<SPAN style="mso-spacerun: yes">&nbsp\; </SPAN>They specialize in the most unique gifts at great prices!! They also were awarded the best gift shop in the Quad City Times 2011 Reader’s Poll!<o:p></o:p></SPAN></P><P style="MARGIN: 0in 0in 0pt" class=MsoNormal><SPAN style="FONT-FAMILY: 'Trebuchet MS'\,'sans-serif'\; FONT-SIZE: 10pt\; mso-fareast-font-family: 'Times New Roman'"><o:p>&nbsp\;</o:p></SPAN></P><P style="MARGIN: 0in 0in 0pt" class=MsoNormal><SPAN style="FONT-FAMILY: 'Trebuchet MS'\,'sans-serif'\; FONT-SIZE: 10pt\; mso-fareast-font-family: 'Times New Roman'">For more information\, visit <A href="http://www.villageofeastdavenport.com/Blue-Sky-Gifts.php"><SPAN style="COLOR: blue">www.villageofeastdavenport.com/Blue-Sky-Gifts.php</SPAN></A> <o:p></o:p></SPAN></P><P style="MARGIN: 0in 0in 0pt" class=MsoNormal>&nbsp\;</P><DIV style="FONT-FAMILY: Arial"><SPAN style="FONT-FAMILY: 'Arial'\,'sans-serif'\; FONT-SIZE: 10pt"><P style="MARGIN: 0in 0in 0pt" class=MsoNormal></SPAN></P></DIV></FONT></DIV>
LOCATION:Blue Sky Gifts1018 Mound St. Davenport\, IA 52803
UID:e.2843.360
SEQUENCE:3
DTSTAMP:20260422T061708Z
URL:https://member.quadcitieschamber.com/events/details/blue-sky-gifts-ribbon-cutting-5-year-anniversary-03-30-2012-360
END:VEVENT

END:VCALENDAR
