BEGIN:VCALENDAR
VERSION:2.0
PRODID:-//ChamberMaster//Event Calendar 2.0//EN
METHOD:PUBLISH
X-PUBLISHED-TTL:P3D
REFRESH-INTERVAL:P3D
CALSCALE:GREGORIAN
BEGIN:VEVENT
DTSTART:20140723T210000Z
DTEND:20140723T213000Z
X-MICROSOFT-CDO-ALLDAYEVENT:FALSE
SUMMARY:Body Brite - Davenport Grand Opening Ribbon Cutting
DESCRIPTION:BodyBrite\, located at 4866 Utica Ridge Rd. Davenport\, IA 52807\, will host a grand opening ribbon cutting ceremony on Wednesday\, July 23rd at 4:00pm.   BodyBrite offers a number of professional services at an affordable price including hair removal\, skin rejuvenation\, facials\, teeth whitening.   Their licensed professionals are focused on bringing quality care and great customer service to make their clients feel as comfortable as possible with the services provided.  BodyBrite USA is growing fast in the U.S. after opening 200+ centers in Mexico\, South America and Europe.   For more information\, please visit www.bodybriteusa.com.
X-ALT-DESC;FMTTYPE=text/html:<FONT face=Calibri><P style="MARGIN: 0in 0in 0pt" class=MsoNormal>BodyBrite\, located at 4866 Utica Ridge Rd. Davenport\, IA 52807\, will host a grand opening ribbon cutting ceremony on Wednesday\, July 23<SUP>rd</SUP> at 4:00pm.<SPAN style="mso-spacerun: yes">&nbsp\; </SPAN><?xml:namespace prefix = o ns = "urn:schemas-microsoft-com:office:office" /><o:p></o:p></P><P style="MARGIN: 0in 0in 0pt" class=MsoNormal><o:p>&nbsp\;</o:p></P><P style="MARGIN: 0in 0in 0pt" class=MsoNormal>BodyBrite offers a number of professional services at an affordable price including hair removal\, skin rejuvenation\, facials\, teeth whitening.<SPAN style="mso-spacerun: yes">&nbsp\;&nbsp\; </SPAN>Their licensed professionals are focused on bringing quality care and great customer service to make their clients feel as comfortable as possible with the services provided.<SPAN style="mso-spacerun: yes">&nbsp\; </SPAN>BodyBrite USA is growing fast in the U.S. after opening 200+ centers in Mexico\, South America and Europe.<SPAN style="mso-spacerun: yes">&nbsp\; </SPAN><o:p></o:p></P><P style="MARGIN: 0in 0in 0pt" class=MsoNormal><o:p>&nbsp\;</o:p></P><P style="MARGIN: 0in 0in 0pt" class=MsoNormal>For more information\, please visit <A href="http://www.bodybriteusa.com"><FONT color=#0000ff face="Times New Roman">www.bodybriteusa.com</FONT></A>.<SPAN style="mso-spacerun: yes">&nbsp\; </SPAN><o:p></o:p></P><P style="MARGIN: 0in 0in 0pt" class=MsoNormal><o:p>&nbsp\;</o:p></P><P style="MARGIN: 0in 0in 0pt" class=MsoNormal><o:p></o:p>&nbsp\;</P><P style="MARGIN: 0in 0in 0pt" class=MsoNormal>&nbsp\;</P></FONT>
LOCATION:BodyBrite4866 Utica Ridge Rd. Davenport\, IA 52807
UID:e.2843.827
SEQUENCE:3
DTSTAMP:20260422T124447Z
URL:https://member.quadcitieschamber.com/events/details/body-brite-davenport-grand-opening-ribbon-cutting-07-23-2014-827
END:VEVENT

END:VCALENDAR
