BEGIN:VCALENDAR
VERSION:2.0
PRODID:-//ChamberMaster//Event Calendar 2.0//EN
METHOD:PUBLISH
X-PUBLISHED-TTL:P3D
REFRESH-INTERVAL:P3D
CALSCALE:GREGORIAN
BEGIN:VEVENT
DTSTART:20200829T140000Z
DTEND:20200829T220000Z
X-MICROSOFT-CDO-ALLDAYEVENT:FALSE
SUMMARY:Body Mind and Spirit Expo
DESCRIPTION:Clinton\, IA / August 20th\, 2020\; The excitement is building as vendors\, coaches and therapists prepare for the 3rd Annual Body\, Mind & Spirit Expo on Saturday\, August 29th from 9:00 a.m. to 5:00 p.m. at the Riverfront Event Center located at 516 1st Street South in Clinton\, Iowa. This is the same location as last year's event. The Body\, Mind & Spirit Expo is a growing metaphysical and holistic experience providing visitors with a welcoming environment to learn about natural and ancient healing techniques\, spiritual practices and clean living. Attendees will be treated to a fun and informative space where industry professionals and like-minded individuals come together for exploration and empowerment\, as well as exciting classes. Some of the class offerings already scheduled include:   Essential Oils for Meditation   The Biology of Bioenergy   Opening Your Third Eye for Advanced Seekers   Shift Your Life   Invoke White Light   Spirit Gallery Confirmed vendors include:   Jamie Collins\, Spirit Speaker (Physic Medium)   Janis Virant\, Greywolf Howling Animal Spirit Readings (Native American Animal Spirit Card Reader and Channels Geronimo)   Lydia\, The Broom Closet (Card Readings\, Reiki\, Massage\, Reflexology and Metaphysical supplies)   Omar's Touch Therapy (Energy Worker)   Arthur Cronkhite\, BioElectra (Pulsed Electro Magnetic System services and jewelry)   Rochel Rittgers\, Infinite Living (Medical intuitive and Life Coach)   Bonita Howes\, Institute of Therapeutic Massage (Chair Massages\, Reiki\, Reflexology and Card Readings)   Sara Thompson\, Intuition by Sarah (Psychic Medium\, jewelry and healing wands) With advance tickets\, one $10 admission includes full access to an entire day of vendor activities and classes. Lunch will be available for purchase\, so people attending can stay all day and not miss any classes. New this year\; video recordings of all classes will be available for purchase for an extra $10 if you do attend and $25 for those who do not attend the event. Tickets are available now at Peaceful River Creations located at 246 5th Avenue South in Clinton\, Iowa. You can also learn more information and purchase tickets online by going to www.bodymindandspirit.info. Admission will be $15 at the door.
X-ALT-DESC;FMTTYPE=text/html:Clinton\, IA / August 20th\, 2020\; The excitement is building as vendors\, coaches and therapists prepare for the 3rd Annual Body\, Mind &amp\; Spirit Expo on Saturday\, August 29th from 9:00 a.m. to 5:00 p.m. at the Riverfront Event Center located at 516 1st Street South in Clinton\, Iowa. This is the same location as last year&rsquo\;s event. The Body\, Mind &amp\; Spirit Expo is a growing metaphysical and holistic experience providing visitors with a welcoming environment to learn about natural and ancient healing techniques\, spiritual practices and clean living. Attendees will be treated to a fun and informative space where industry professionals and like-minded individuals come together for exploration and empowerment\, as well as exciting classes. Some of the class offerings already scheduled include: &bull\; Essential Oils for Meditation &bull\; The Biology of Bioenergy &bull\; Opening Your Third Eye for Advanced Seekers &bull\; Shift Your Life &bull\; Invoke White Light &bull\; Spirit Gallery Confirmed vendors include: &bull\; Jamie Collins\, Spirit Speaker (Physic Medium) &bull\; Janis Virant\, Greywolf Howling Animal Spirit Readings (Native American Animal Spirit Card Reader and Channels Geronimo) &bull\; Lydia\, The Broom Closet (Card Readings\, Reiki\, Massage\, Reflexology and Metaphysical supplies) &bull\; Omar&rsquo\;s Touch Therapy (Energy Worker) &bull\; Arthur Cronkhite\, BioElectra (Pulsed Electro Magnetic System services and jewelry) &bull\; Rochel Rittgers\, Infinite Living (Medical intuitive and Life Coach) &bull\; Bonita Howes\, Institute of Therapeutic Massage (Chair Massages\, Reiki\, Reflexology and Card Readings) &bull\; Sara Thompson\, Intuition by Sarah (Psychic Medium\, jewelry and healing wands) With advance tickets\, one $10 admission includes full access to an entire day of vendor activities and classes. Lunch will be available for purchase\, so people attending can stay all day and not miss any classes. New this year\; video recordings of all classes will be available for purchase for an extra $10 if you do attend and $25 for those who do not attend the event. Tickets are available now at Peaceful River Creations located at 246 5th Avenue South in Clinton\, Iowa. You can also learn more information and purchase tickets online by going to www.bodymindandspirit.info. Admission will be $15 at the door.
LOCATION:Riverfront Events Center
UID:e.2843.17891
SEQUENCE:3
DTSTAMP:20260421T141701Z
URL:https://member.quadcitieschamber.com/events/details/body-mind-and-spirit-expo-17891
END:VEVENT

END:VCALENDAR
