BEGIN:VCALENDAR
VERSION:2.0
PRODID:-//ChamberMaster//Event Calendar 2.0//EN
METHOD:PUBLISH
X-PUBLISHED-TTL:P3D
REFRESH-INTERVAL:P3D
CALSCALE:GREGORIAN
BEGIN:VEVENT
DTSTART:20190824T140000Z
DTEND:20190824T220000Z
X-MICROSOFT-CDO-ALLDAYEVENT:FALSE
SUMMARY:Body Mind & Spirit Expo
DESCRIPTION:The Body\, Mind & Spirit Expo is a metaphysical and holistic experience providing visitors with a welcoming environment to learn about natural and ancient healing techniques\, spiritual practices and clean living. Attendees will be treated to a fun and informative space where industry professionals and like-minded individuals come together for self-exploration and self-empowerment\, as well as exciting vendor classes.
X-ALT-DESC;FMTTYPE=text/html:The Body\, Mind &amp\; Spirit Expo is a metaphysical and holistic experience providing visitors with a welcoming environment to learn about natural and ancient healing techniques\, spiritual practices and clean living. Attendees will be treated to a fun and informative space where industry professionals and like-minded individuals come together for self-exploration and self-empowerment\, as well as exciting vendor classes.
LOCATION:Riverfront Event Center 516 S 1st St. Clinton\, IA 52732 (formerly Banner Furniture)
UID:e.2843.15424
SEQUENCE:3
DTSTAMP:20260422T100627Z
URL:https://member.quadcitieschamber.com/events/details/body-mind-spirit-expo-15424
END:VEVENT

END:VCALENDAR
