BEGIN:VCALENDAR
VERSION:2.0
PRODID:-//ChamberMaster//Event Calendar 2.0//EN
METHOD:PUBLISH
X-PUBLISHED-TTL:P3D
REFRESH-INTERVAL:P3D
CALSCALE:GREGORIAN
BEGIN:VEVENT
DTSTART:20130620T210000Z
DTEND:20130620T213000Z
X-MICROSOFT-CDO-ALLDAYEVENT:FALSE
SUMMARY:Bolger Aesthetics Ribbon Cutting
DESCRIPTION:Please help Bolger Aesthetics celebrate their Grand Opening on Thursday\, June 20th at 4pm – Located at 2195 E. 53rd Street in Davenport. Bolger Aesthetics is a new business that specializes in Botox\, Dermal Fillers\, Veins and Body Contouring. They also carry medical grade facial products. For more information\, please visit www.bolgeraesthetics.com
X-ALT-DESC;FMTTYPE=text/html:<DIV style="FONT-FAMILY: Arial"><P style="MARGIN: 0in 0in 0pt" class=MsoNormal><SPAN style="mso-ascii-font-family: Calibri\; mso-hansi-font-family: Calibri"><FONT face=Calibri>Please help Bolger Aesthetics celebrate their Grand Opening on <B style="mso-bidi-font-weight: normal">Thursday\, June 20<SUP>th</SUP> at 4pm</B> – Located at 2195 E. 53<SUP>rd</SUP> Street in Davenport.<?xml:namespace prefix = o ns = "urn:schemas-microsoft-com:office:office" /><o:p></o:p></FONT></SPAN></P><P style="MARGIN: 0in 0in 0pt" class=MsoNormal><SPAN style="mso-ascii-font-family: Calibri\; mso-hansi-font-family: Calibri"><o:p><FONT face=Calibri>&nbsp\;</FONT></o:p></SPAN></P><P style="MARGIN: 0in 0in 0pt" class=MsoNormal><SPAN style="mso-ascii-font-family: Calibri\; mso-hansi-font-family: Calibri"><FONT face=Calibri>Bolger Aesthetics is a new business that specializes in Botox\, Dermal Fillers\, Veins and Body Contouring. They also carry medical grade facial products.<o:p></o:p></FONT></SPAN></P><P style="MARGIN: 0in 0in 0pt" class=MsoNormal><SPAN style="mso-ascii-font-family: Calibri\; mso-hansi-font-family: Calibri"><o:p><FONT face=Calibri>&nbsp\;</FONT></o:p></SPAN></P><P style="MARGIN: 0in 0in 0pt" class=MsoNormal><SPAN style="mso-ascii-font-family: Calibri\; mso-hansi-font-family: Calibri"><FONT face=Calibri>For more information\, please visit </FONT><A href="http://www.bolgeraesthetics.com"><FONT face=Calibri>www.bolgeraesthetics.com</FONT></A><o:p></o:p></SPAN></P></DIV>
LOCATION:Bolger Aesthetics2195 E. 53rd Street Davenport\, IA 52807
UID:e.2843.607
SEQUENCE:3
DTSTAMP:20260421T134633Z
URL:https://member.quadcitieschamber.com/events/details/bolger-aesthetics-ribbon-cutting-06-20-2013-607
END:VEVENT

END:VCALENDAR
