BEGIN:VCALENDAR
VERSION:2.0
PRODID:-//ChamberMaster//Event Calendar 2.0//EN
METHOD:PUBLISH
X-PUBLISHED-TTL:P3D
REFRESH-INTERVAL:P3D
CALSCALE:GREGORIAN
BEGIN:VEVENT
DTSTART:20171021T183000Z
DTEND:20171021T193000Z
X-MICROSOFT-CDO-ALLDAYEVENT:FALSE
SUMMARY:Book Talk: "IOWA: Echoes of a Vanishing Landscape"
DESCRIPTION:Book Talk: IOWA: Echoes of a Vanishing Landscape\n\n\nDavid Ottenstein\, photographer and author of "IOWA: Echoes of a Vanishing Landscape"\, will be at the Eastern Avenue Library to discuss his book and share his love of photography and Iowa . He will be signing and selling copies of his book as well. \n\nDavid Ottenstein was born in Pittsburgh\, Pennsylvania\, in 1960 and grew up in the Northeastern United States\, primarily in the central Pennsylvania town of State College. David graduated from Yale University in 1982 with a BA in American Studies with a concentration in photography. He has worked for thirty-five years as a freelance editorial and commercial photographer\, specializing in architecture and interiors. \n\nFor the past eighteen years\, David has also pursued fine-art/documentary photography\, exploring interiors of abandoned and decaying buildings in the Northeast and the vanishing agrarian landscape of the Midwest. \n\nThe Western Americana Collection at the Beinecke Rare Book and Manuscript Library at Yale University has been acquiring David's work on an ongoing basis. His photographs are also represented in the Nelson-Atkins Museum of American Art\, Kansas City\, MO\; the Grinnell College Permanent Collection\; the Dubuque Museum of Art\, Dubuque\, IA\; the New Britain Museum of American Art\, New Britain\, CT\; and the Palmer Museum of Art at Penn State\, among others. \n\nDavid and his wife have two adult children and live in New Haven\, Connecticut a long\, but interesting drive from Iowa.
X-ALT-DESC;FMTTYPE=text/html:&nbsp\;&nbsp\;&nbsp\;&nbsp\;&nbsp\;\n<div>\n<h1>Book Talk: IOWA: Echoes of a Vanishing Landscape</h1>\n\n<div>\n<p>David Ottenstein\, photographer and author of &quot\;IOWA: Echoes of a Vanishing Landscape&quot\;\, will be at the Eastern Avenue Library to discuss his book and share his love of photography and Iowa . He will be signing and selling copies of his book as well.&nbsp\;</p>\n\n<p>David Ottenstein was born in Pittsburgh\, Pennsylvania\, in 1960 and grew up in the Northeastern United States\, primarily in the central Pennsylvania town of State College. David graduated from Yale University in 1982 with a BA in American Studies with a concentration in photography. He has worked for thirty-five years as a freelance editorial and commercial photographer\, specializing in architecture and interiors.&nbsp\;</p>\n\n<p>For the past eighteen years\, David has also pursued fine-art/documentary photography\, exploring interiors of abandoned and decaying buildings in the Northeast and the vanishing agrarian landscape of the Midwest.&nbsp\;</p>\n\n<p>The Western Americana Collection at the Beinecke Rare Book and Manuscript Library at Yale University has been acquiring David&rsquo\;s work on an ongoing basis. His photographs are also represented in the Nelson-Atkins Museum of American Art\, Kansas City\, MO\; the Grinnell College Permanent Collection\; the Dubuque Museum of Art\, Dubuque\, IA\; the New Britain Museum of American Art\, New Britain\, CT\; and the Palmer Museum of Art at Penn State\, among others.&nbsp\;</p>\n\n<p>David and his wife have two adult children and live in New Haven\, Connecticut&mdash\;a long\, but interesting drive from Iowa.&nbsp\;</p>\n</div>\n</div>\n
LOCATION:The Library | Eastern 6000 Eastern Avenue Davenport\, IA 52807
UID:e.2843.8545
SEQUENCE:3
DTSTAMP:20260423T210616Z
URL:https://member.quadcitieschamber.com/events/details/book-talk-iowa-echoes-of-a-vanishing-landscape-8545
END:VEVENT

END:VCALENDAR
