BEGIN:VCALENDAR
VERSION:2.0
PRODID:-//ChamberMaster//Event Calendar 2.0//EN
METHOD:PUBLISH
X-PUBLISHED-TTL:P3D
REFRESH-INTERVAL:P3D
CALSCALE:GREGORIAN
BEGIN:VEVENT
DTSTART:20170629T133000Z
DTEND:20170629T213000Z
X-MICROSOFT-CDO-ALLDAYEVENT:FALSE
SUMMARY:Boots to Business Reboot: Starting or Growing a Veteran Owned Business Workshop
DESCRIPTION:STARTING OR OWNING A VETERAN-OWNED SMALL BUSINESS\n\nAn entrepreneurship training program for veterans and their spouses.\n\n\n\nVeterans have the character\, discipline and skills needed to succeed as small business owners and entrepreneurs. Wondering what it takes and how you can prepare? Enroll in Boots to Business Reboot.\n\n\n\nABOUT BOOTS TO BUSINESS REBOOT\n\nBoots to Business Reboot is a two-step training program that provides participants an overview of business ownership as a career vocation\, an outline and knowledge on the components of a business plan\, a practical exercise in opportunity recognition\, and an introduction to available public and private sector resources. \n\n\n\nStep one is the Introduction to Entrepreneurship course eligible to Veterans of all eras\, Service members (including members of the National Guard and Reserves) and their spouses. This course is instructed by SBA and its partners\, who are skilled business advisors.\n\n\n\nStep two is the follow-on Foundations of Entrepreneurship course instructed by a consortium of professors and skilled business advisors from the SBA Network. Please email boot-to-buinsess@sba.gov if you've already attended Boots to Business and wish to sign-up.\n\n\n\nWHEN:\n\nThursday\, June 29\, 2017\n\n8:30 am   4:30 pm\n\n\n\nWHERE:\n\nQuad Cities Chamber of Commerce\n\n331 W. 3rd Street\n\nDavenport\, IA 52801\n\n\n\nThe training session is free. Snacks will be provided\, but lunch is at your own expense.\n\n\n\nFor More Information contact:\n\nJayne Armstrong\n\nEmail: jayne.armstrong@sba.gov\n\nCall: 515-284-4026
X-ALT-DESC;FMTTYPE=text/html:<span style="color: rgb(75\, 79\, 86)\; font-family: Helvetica\, Arial\, sans-serif\; font-size: 14px\; background-color: rgb(255\, 255\, 255)\;">STARTING OR OWNING A VETERAN-OWNED SMALL BUSINESS</span><br style="color: rgb(75\, 79\, 86)\; font-family: Helvetica\, Arial\, sans-serif\; font-size: 14px\; background-color: rgb(255\, 255\, 255)\;" />\n<span style="color: rgb(75\, 79\, 86)\; font-family: Helvetica\, Arial\, sans-serif\; font-size: 14px\; background-color: rgb(255\, 255\, 255)\;">An entrepreneurship training program for veterans and their spouses.</span><br style="color: rgb(75\, 79\, 86)\; font-family: Helvetica\, Arial\, sans-serif\; font-size: 14px\; background-color: rgb(255\, 255\, 255)\;" />\n<br style="color: rgb(75\, 79\, 86)\; font-family: Helvetica\, Arial\, sans-serif\; font-size: 14px\; background-color: rgb(255\, 255\, 255)\;" />\n<span style="color: rgb(75\, 79\, 86)\; font-family: Helvetica\, Arial\, sans-serif\; font-size: 14px\; background-color: rgb(255\, 255\, 255)\;">Veterans have the character\, discipline and skills needed to succeed as small business owners and entrepreneurs. Wondering what it takes and how you can prepare? Enroll in Boots to Business Reboot.</span><br style="color: rgb(75\, 79\, 86)\; font-family: Helvetica\, Arial\, sans-serif\; font-size: 14px\; background-color: rgb(255\, 255\, 255)\;" />\n<br style="color: rgb(75\, 79\, 86)\; font-family: Helvetica\, Arial\, sans-serif\; font-size: 14px\; background-color: rgb(255\, 255\, 255)\;" />\n<span style="color: rgb(75\, 79\, 86)\; font-family: Helvetica\, Arial\, sans-serif\; font-size: 14px\; background-color: rgb(255\, 255\, 255)\;">ABOUT BOOTS TO BUSINESS REBOOT</span><br style="color: rgb(75\, 79\, 86)\; font-family: Helvetica\, Arial\, sans-serif\; font-size: 14px\; background-color: rgb(255\, 255\, 255)\;" />\n<span style="color: rgb(75\, 79\, 86)\; font-family: Helvetica\, Arial\, sans-serif\; font-size: 14px\; background-color: rgb(255\, 255\, 255)\;">Boots to Business Reboot is a two-step training program that provides participants an overview of business ownership as a career vocation\, an outline and knowledge on the components of a business plan\, a practical exercise in opportunity recognition\, and an introduction to available public and private sector resources.&nbsp\;</span><br style="color: rgb(75\, 79\, 86)\; font-family: Helvetica\, Arial\, sans-serif\; font-size: 14px\; background-color: rgb(255\, 255\, 255)\;" />\n<br style="color: rgb(75\, 79\, 86)\; font-family: Helvetica\, Arial\, sans-serif\; font-size: 14px\; background-color: rgb(255\, 255\, 255)\;" />\n<span style="color: rgb(75\, 79\, 86)\; font-family: Helvetica\, Arial\, sans-serif\; font-size: 14px\; background-color: rgb(255\, 255\, 255)\;">Step one is the Introduction to Entrepreneurshi</span><span class="text_exposed_show" style="display: inline\; font-family: Helvetica\, Arial\, sans-serif\; color: rgb(75\, 79\, 86)\; font-size: 14px\; background-color: rgb(255\, 255\, 255)\;">p course eligible to Veterans of all eras\, Service members (including members of the National Guard and Reserves) and their spouses. This course is instructed by SBA and its partners\, who are skilled business advisors.<br />\n<br />\nStep two is the follow-on Foundations of Entrepreneurship course instructed by a consortium of professors and skilled business advisors from the SBA Network. Please email boot-to-buinsess@sba.gov if you&rsquo\;ve already attended Boots to Business and wish to sign-up.<br />\n<br />\nWHEN:<br />\nThursday\, June 29\, 2017<br />\n8:30 am &ndash\; 4:30 pm<br />\n<br />\nWHERE:<br />\nQuad Cities Chamber of Commerce<br />\n331 W. 3rd Street<br />\nDavenport\, IA 52801<br />\n<br />\nThe training session is free. Snacks will be provided\, but lunch is at your own expense.<br />\n<br />\nFor More Information contact:<br />\nJayne Armstrong<br />\nEmail: jayne.armstrong@sba.gov<br />\nCall: 515-284-4026</span>
LOCATION:Quad Cities Chamber of Commerce 331 W 3rd Street Davenport\, IA 52801
UID:e.2843.6070
SEQUENCE:3
DTSTAMP:20260424T015326Z
URL:https://member.quadcitieschamber.com/events/details/boots-to-business-reboot-starting-or-growing-a-veteran-owned-business-workshop-6070
END:VEVENT

END:VCALENDAR
