BEGIN:VCALENDAR
VERSION:2.0
PRODID:-//ChamberMaster//Event Calendar 2.0//EN
METHOD:PUBLISH
X-PUBLISHED-TTL:P3D
REFRESH-INTERVAL:P3D
CALSCALE:GREGORIAN
BEGIN:VEVENT
DTSTART:20130125T220000Z
DTEND:20130125T223000Z
X-MICROSOFT-CDO-ALLDAYEVENT:FALSE
SUMMARY:Boys and Girls Clubs of MV Ribbon Cutting
DESCRIPTION:Please help the Boys and Girls Clubs of the Mississippi Valley celebrate their new Teen Center with a ribbon cutting on Friday\, January 25th at 4:00pm.  Located at 1122 5th Avenue in Moline – formerly the Skills Inc. location.   This is a career-focused teen center for club members age 13-18.  The Boys and Girls Clubs of MV would like to thank their donors! View the great article from the December 23rd edition of the QC Times here  http://qctimes.com/news/local/the-club-nearly-ready-to-help-boys-girls/article_0f8d0570-4d8f-11e2-bae0-0019bb2963f4.html For more information regarding the Boys and Girls Clubs of the Mississippi Valley\, visit www.bgcmv.org.
X-ALT-DESC;FMTTYPE=text/html:<P style="MARGIN: 0in 0in 0pt" class=MsoNormal><FONT face=Calibri>Please help the Boys and Girls Clubs of the Mississippi Valley celebrate their new Teen Center with a ribbon cutting on Friday\, January 25<SUP>th</SUP> at 4:00pm.<SPAN style="mso-spacerun: yes">&nbsp\; </SPAN>Located at 1122 5<SUP>th</SUP> Avenue in Moline – formerly the Skills Inc. location.<SPAN style="mso-spacerun: yes">&nbsp\; </SPAN></FONT></P><P style="MARGIN: 0in 0in 0pt" class=MsoNormal><?xml:namespace prefix = o ns = "urn:schemas-microsoft-com:office:office" /><o:p><FONT face=Calibri>&nbsp\;</FONT></o:p></P><P style="MARGIN: 0in 0in 0pt" class=MsoNormal><FONT face=Calibri>This is a career-focused teen center for club members age 13-18.<SPAN style="mso-spacerun: yes">&nbsp\; </SPAN>The Boys and Girls Clubs of MV would like to thank their donors!</FONT></P><P style="MARGIN: 0in 0in 0pt" class=MsoNormal><o:p><FONT face=Calibri>&nbsp\;</FONT></o:p></P><P style="MARGIN: 0in 0in 0pt" class=MsoNormal><FONT face=Calibri>View the great article from the December 23<SUP>rd</SUP> edition of the QC Times here<SPAN style="mso-spacerun: yes">&nbsp\; </SPAN></FONT><A href="http://qctimes.com/news/local/the-club-nearly-ready-to-help-boys-girls/article_0f8d0570-4d8f-11e2-bae0-0019bb2963f4.html">http://qctimes.com/news/local/the-club-nearly-ready-to-help-boys-girls/article_0f8d0570-4d8f-11e2-bae0-0019bb2963f4.html</A></P><P style="MARGIN: 0in 0in 0pt" class=MsoNormal><o:p><FONT face=Calibri>&nbsp\;</FONT></o:p></P><P style="MARGIN: 0in 0in 0pt" class=MsoNormal><FONT face=Calibri>For more information regarding the Boys and Girls Clubs of the Mississippi Valley\, visit </FONT><A href="http://www.bgcmv.org">www.bgcmv.org</A>.</P><DIV style="FONT-FAMILY: Arial">&nbsp\;</DIV>
LOCATION:Boys & Girls Club of the Mississippi Valley1122 5th Avenue Moline\, IL 61265
UID:e.2843.499
SEQUENCE:3
DTSTAMP:20260421T121653Z
URL:https://member.quadcitieschamber.com/events/details/boys-and-girls-clubs-of-mv-ribbon-cutting-01-25-2013-499
END:VEVENT

END:VCALENDAR
