BEGIN:VCALENDAR
VERSION:2.0
PRODID:-//ChamberMaster//Event Calendar 2.0//EN
METHOD:PUBLISH
X-PUBLISHED-TTL:P3D
REFRESH-INTERVAL:P3D
CALSCALE:GREGORIAN
BEGIN:VEVENT
DTSTART:20130920T210000Z
DTEND:20130920T213000Z
X-MICROSOFT-CDO-ALLDAYEVENT:FALSE
SUMMARY:Boys and Girls Clubs of the Mississippi Valley
DESCRIPTION:Please join the Boys and Girls Clubs of the Mississippi Valley in celebrating the grand opening of their newly renovated Teen Center on Friday\, September 20th at 4:00 p.m.  Located at 1122 5th Ave. Moline\, IL 61265.   http://mapq.st/1dWoz9u.   The teen center\, The Club\, serves the Boys and Girls Clubs of the Mississippi Valley teen club members (ages 13-18) throughout the Quad Cities area.  This newly renovated facility in Floriciente will include a credit union in the future.   For more information\, please visit www.bgcmv.org.    Thank You\,
X-ALT-DESC;FMTTYPE=text/html:<DIV style="FONT-FAMILY: Arial"><P style="MARGIN: 0in 0in 0pt" class=MsoNormal><FONT face=Calibri>Please join the Boys and Girls Clubs of the Mississippi Valley in celebrating the grand opening of their newly renovated Teen Center on <B style="mso-bidi-font-weight: normal">Friday\, September 20<SUP>th</SUP> at 4:00 p.m.</B>&nbsp\; Located at 1122 5<SUP>th</SUP> Ave. Moline\, IL 61265.<SPAN style="mso-spacerun: yes">&nbsp\;&nbsp\; </SPAN></FONT><A href="http://mapq.st/1dWoz9u"><FONT face="Times New Roman">http://mapq.st/1dWoz9u</FONT></A><FONT face=Calibri>.<SPAN style="mso-spacerun: yes">&nbsp\; </SPAN><?xml:namespace prefix = o ns = "urn:schemas-microsoft-com:office:office" /><o:p></o:p></FONT></P><P style="MARGIN: 0in 0in 0pt" class=MsoNormal><o:p><FONT face=Calibri>&nbsp\;</FONT></o:p></P><P style="MARGIN: 0in 0in 0pt" class=MsoNormal><FONT face=Calibri>The teen center\, The Club\, serves the Boys and Girls Clubs of the Mississippi Valley teen club members (ages 13-18) throughout the Quad Cities area.<SPAN style="mso-spacerun: yes">&nbsp\; </SPAN>This newly renovated facility in Floriciente will include a credit union in the future.<SPAN style="mso-spacerun: yes">&nbsp\; </SPAN><o:p></o:p></FONT></P><P style="MARGIN: 0in 0in 0pt" class=MsoNormal><o:p><FONT face=Calibri>&nbsp\;</FONT></o:p></P><P style="MARGIN: 0in 0in 0pt" class=MsoNormal><FONT face=Calibri>For more information\, please visit </FONT><A href="http://www.bgcmv.org"><FONT face="Times New Roman">www.bgcmv.org</FONT></A><FONT face=Calibri>.<SPAN style="mso-spacerun: yes">&nbsp\;&nbsp\; </SPAN><o:p></o:p></FONT></P><P style="MARGIN: 0in 0in 0pt" class=MsoNormal><FONT face=Calibri><SPAN style="mso-spacerun: yes">&nbsp\;</SPAN><o:p></o:p></FONT></P><P style="MARGIN: 0in 0in 0pt" class=MsoNormal><FONT face=Calibri>Thank You\, <o:p></o:p></FONT></P></DIV>
LOCATION:Boys & Girls of the Mississippi Valley - Teen Center1122 5th Ave. Moline\, IL 61265
UID:e.2843.688
SEQUENCE:3
DTSTAMP:20260421T202935Z
URL:https://member.quadcitieschamber.com/events/details/boys-and-girls-clubs-of-the-mississippi-valley-09-20-2013-688
END:VEVENT

END:VCALENDAR
