BEGIN:VCALENDAR
VERSION:2.0
PRODID:-//ChamberMaster//Event Calendar 2.0//EN
METHOD:PUBLISH
X-PUBLISHED-TTL:P3D
REFRESH-INTERVAL:P3D
CALSCALE:GREGORIAN
BEGIN:VEVENT
DTSTART:20190127T000000Z
DTEND:20190127T050000Z
X-MICROSOFT-CDO-ALLDAYEVENT:FALSE
SUMMARY:Boys & Girls Clubs Annual Gala
DESCRIPTION:Boys & Girls Clubs of the Mississippi Valley is excited to celebrate 25 years in the Quad Cities! Join us for a night of dancing and cocktails\, with special entertainment from our youth cello program!
X-ALT-DESC;FMTTYPE=text/html:Boys &amp\; Girls Clubs of the Mississippi Valley is excited to celebrate 25 years in the Quad Cities! Join us for a night of dancing and cocktails\, with special entertainment from our youth cello program!
LOCATION:Waterfront Convention Center Bettendorf\, IA
UID:e.2843.13567
SEQUENCE:3
DTSTAMP:20260422T215820Z
URL:https://member.quadcitieschamber.com/events/details/boys-girls-clubs-annual-gala-13567
END:VEVENT

END:VCALENDAR
