BEGIN:VCALENDAR
VERSION:2.0
PRODID:-//ChamberMaster//Event Calendar 2.0//EN
METHOD:PUBLISH
X-PUBLISHED-TTL:P3D
REFRESH-INTERVAL:P3D
CALSCALE:GREGORIAN
BEGIN:VEVENT
DTSTART:20200111T233000Z
DTEND:20200112T050000Z
X-MICROSOFT-CDO-ALLDAYEVENT:FALSE
SUMMARY:Boys & Girls Clubs Annual Gala 2020
DESCRIPTION:There is no silver bullet to success. It takes an army of people\, a safe environment\, high- quality programs and unique experiences to level the playing field for all kids. Boys & Girls Clubs don't just do one thing\, we do whatever it takes. Join us for an evening of member performances and amazing entertainment from the Crooked Cactus Band\, as we show you how Boys & Girls Clubs creates great futures for the young people of the Quad Cities.
X-ALT-DESC;FMTTYPE=text/html:There is no silver bullet to success. It takes an army of people\, a safe environment\, high- quality programs and unique experiences to level the playing field for all kids. Boys &amp\; Girls Clubs don&#39\;t just do one thing\, we do whatever it takes. Join us for an evening of member performances and amazing entertainment from the Crooked Cactus Band\, as we show you how Boys &amp\; Girls Clubs creates great futures for the young people of the Quad Cities.
LOCATION:TaxSlayer Center
UID:e.2843.17143
SEQUENCE:3
DTSTAMP:20260422T015605Z
URL:https://member.quadcitieschamber.com/events/details/boys-girls-clubs-annual-gala-2020-17143
END:VEVENT

END:VCALENDAR
