BEGIN:VCALENDAR
VERSION:2.0
PRODID:-//ChamberMaster//Event Calendar 2.0//EN
METHOD:PUBLISH
X-PUBLISHED-TTL:P3D
REFRESH-INTERVAL:P3D
CALSCALE:GREGORIAN
BEGIN:VEVENT
DTSTART:20180128T000000Z
DTEND:20180128T053000Z
X-MICROSOFT-CDO-ALLDAYEVENT:FALSE
SUMMARY:Boys & Girls Clubs of the Mississippi Valley Annual Gala
DESCRIPTION:An astronaut  A nurse  A chef  A better science student  A more confident friend  A varsity soccer player  What will they become? At Boys & Girls Clubs of the Mississippi Valley\, we help our members learn the life lessons\, skills\, and confidence to pursue their dreams. Help us celebrate 24 years of Building Great Futures in the Quad Cities. Join us to learn more about what happens behind the blue door\, and how we plan to help even more area youth achieve success in life. Our 3rd Annual Gala will include dinner\, dancing\, auction\, and short program.
X-ALT-DESC;FMTTYPE=text/html:An astronaut&hellip\; A nurse&hellip\; A chef&hellip\; A better science student&hellip\; A more confident friend&hellip\; A varsity soccer player&hellip\; What will they become? At Boys &amp\; Girls Clubs of the Mississippi Valley\, we help our members learn the life lessons\, skills\, and confidence to pursue their dreams. Help us celebrate 24 years of Building Great Futures in the Quad Cities. Join us to learn more about what happens behind the blue door\, and how we plan to help even more area youth achieve success in life. Our 3rd Annual Gala will include dinner\, dancing\, auction\, and short program.
LOCATION:Waterfront Convention Center\, 2021 State St Bettendorf
UID:e.2843.8885
SEQUENCE:3
DTSTAMP:20260423T182547Z
URL:https://member.quadcitieschamber.com/events/details/boys-girls-clubs-of-the-mississippi-valley-annual-gala-8885
END:VEVENT

END:VCALENDAR
