BEGIN:VCALENDAR
VERSION:2.0
PRODID:-//ChamberMaster//Event Calendar 2.0//EN
METHOD:PUBLISH
X-PUBLISHED-TTL:P3D
REFRESH-INTERVAL:P3D
CALSCALE:GREGORIAN
BEGIN:VEVENT
DTSTART:20120301T060000Z
DTEND:20120301T060000Z
X-MICROSOFT-CDO-ALLDAYEVENT:FALSE
SUMMARY:Branstad Visit
DESCRIPTION:Branstad Visit
X-ALT-DESC;FMTTYPE=text/html:Branstad Visit
LOCATION:New Ventures Center
UID:e.2843.1500
SEQUENCE:3
DTSTAMP:20260420T101933Z
URL:https://member.quadcitieschamber.com/events/details/branstad-visit-03-01-2012-1500
END:VEVENT

END:VCALENDAR
