BEGIN:VCALENDAR
VERSION:2.0
PRODID:-//ChamberMaster//Event Calendar 2.0//EN
METHOD:PUBLISH
X-PUBLISHED-TTL:P3D
REFRESH-INTERVAL:P3D
CALSCALE:GREGORIAN
BEGIN:VEVENT
DTSTART:20130503T210000Z
DTEND:20130503T213000Z
X-MICROSOFT-CDO-ALLDAYEVENT:FALSE
SUMMARY:Brewed Awakenings & Arthur Murray Dance Studio Ribbon Cutting
DESCRIPTION:Please help new members Brewed Awakenings & Arthur Murray Dance Studio celebrate a joint ribbon cutting on Friday\, May 3rd at 4:00pm – Located at 221 Brady St.\, Suite 1 (In the old Urban Grind building). Brewed Awakenings is a coffee shop\, espresso bar\, and includes breakfast and lunch with breakfast served all day.  Extended evening hours coming soon.  For more information\, please visit www.brewedawakeQC.com. Arthur Murray Dance Studio specializes in teaching quality social and ballroom dance lessons to individuals and couples of all ages. They offer a free introductory lesson and consultation to all new students.  Check out www.arthurmurrayqca.com for more information.
X-ALT-DESC;FMTTYPE=text/html:<P style="MARGIN: 0in 0in 0pt" class=MsoNormal><FONT face=Calibri>Please help new members Brewed Awakenings &amp\; Arthur Murray Dance Studio celebrate a joint ribbon cutting on <B style="mso-bidi-font-weight: normal">Friday\, May 3<SUP>rd</SUP> at 4:00pm</B> – Located at 221 Brady St.\, Suite 1 (In the old Urban Grind building).<?xml:namespace prefix = o ns = "urn:schemas-microsoft-com:office:office" /><o:p></o:p></FONT></P><P style="MARGIN: 0in 0in 0pt" class=MsoNormal><o:p><FONT face=Calibri>&nbsp\;</FONT></o:p></P><P style="MARGIN: 0in 0in 0pt" class=MsoNormal><FONT face=Calibri>Brewed Awakenings is a coffee shop\, espresso bar\, and includes breakfast and lunch with breakfast served all day.<SPAN style="mso-spacerun: yes">&nbsp\; </SPAN>Extended evening hours coming soon.<SPAN style="mso-spacerun: yes">&nbsp\; </SPAN>For more information\, please visit </FONT><A href="http://www.brewedawakeQC.com"><FONT face=Calibri>www.brewedawakeQC.com</FONT></A><FONT face=Calibri>.<o:p></o:p></FONT></P><P style="MARGIN: 0in 0in 0pt" class=MsoNormal><o:p><FONT face=Calibri>&nbsp\;</FONT></o:p></P><P style="MARGIN: 0in 0in 0pt" class=MsoNormal><FONT face=Calibri>Arthur Murray Dance Studio specializes in teaching quality social and ballroom dance lessons to individuals and couples of all ages. They offer a free introductory lesson and consultation to all new students.<SPAN style="mso-spacerun: yes">&nbsp\; </SPAN>Check out </FONT><A href="http://www.arthurmurrayqca.com"><FONT face=Calibri>www.arthurmurrayqca.com</FONT></A><FONT face=Calibri> for more information.<o:p></o:p></FONT></P><DIV style="FONT-FAMILY: Arial">&nbsp\;</DIV>
LOCATION:Brewed Awakenings221 Brady Street Davenport\, IA 52801
UID:e.2843.566
SEQUENCE:3
DTSTAMP:20260421T134802Z
URL:https://member.quadcitieschamber.com/events/details/brewed-awakenings-arthur-murray-dance-studio-ribbon-cutting-05-03-2013-566
END:VEVENT

END:VCALENDAR
