BEGIN:VCALENDAR
VERSION:2.0
PRODID:-//ChamberMaster//Event Calendar 2.0//EN
METHOD:PUBLISH
X-PUBLISHED-TTL:P3D
REFRESH-INTERVAL:P3D
CALSCALE:GREGORIAN
BEGIN:VEVENT
DTSTART:20180506T180000Z
DTEND:20180506T200000Z
X-MICROSOFT-CDO-ALLDAYEVENT:FALSE
SUMMARY:Bridal Fair at The Renwick Mansion
DESCRIPTION:Come meet local wedding vendors at the historic Renwick Mansion! We'll have catering\, photography\, wine tasting\, a dj\, florist\, salon & spa and more!
X-ALT-DESC;FMTTYPE=text/html:Come meet local wedding vendors at the historic Renwick Mansion! We&#39\;ll have catering\, photography\, wine tasting\, a dj\, florist\, salon &amp\; spa and more!
LOCATION:901 Tremont Avenue Davenport\, IA 52803
UID:e.2843.13158
SEQUENCE:3
DTSTAMP:20260423T110149Z
URL:https://member.quadcitieschamber.com/events/details/bridal-fair-at-the-renwick-mansion-13158
END:VEVENT

END:VCALENDAR
