BEGIN:VCALENDAR
VERSION:2.0
PRODID:-//ChamberMaster//Event Calendar 2.0//EN
METHOD:PUBLISH
X-PUBLISHED-TTL:P3D
REFRESH-INTERVAL:P3D
CALSCALE:GREGORIAN
BEGIN:VEVENT
DTSTART:20180513T180000Z
DTEND:20180513T210000Z
X-MICROSOFT-CDO-ALLDAYEVENT:FALSE
SUMMARY:Broadway Historic District: Mother's Day Tour of Homes
DESCRIPTION:Come visit the Broadway Historic District for our annual Mother's Day Tour of Homes! This year's tour theme is "Broadway: Hip and Historic" and will feature the first floors of six homes and Karpeles Manuscript Museum. Tours will begin at Karpeles\, and a trolley will transport tour-goers between homes.  Interpreters will be at each home and at Karpeles to explain the history\, architecture\, and finishes. The tour will take place from 1-4 PM on Mother's Day. Tickets can be reserved online or purchased at Karpeles on the day of the tour.
X-ALT-DESC;FMTTYPE=text/html:Come visit the Broadway Historic District for our annual Mother&#39\;s Day Tour of Homes! This year&#39\;s tour theme is &quot\;Broadway: Hip and Historic&quot\; and will feature the first floors of six homes and Karpeles Manuscript Museum. Tours will begin at Karpeles\, and a trolley will transport tour-goers between homes.&nbsp\; Interpreters will be at each home and at Karpeles to explain the history\, architecture\, and finishes. The tour will take place from 1-4 PM on Mother&#39\;s Day. Tickets can be reserved online or purchased at Karpeles on the day of the tour.
LOCATION:Karpeles Manuscript Museum 700 22nd St Rock Island\, IL
UID:e.2843.13176
SEQUENCE:3
DTSTAMP:20260423T111228Z
URL:https://member.quadcitieschamber.com/events/details/broadway-historic-district-mother-s-day-tour-of-homes-13176
END:VEVENT

END:VCALENDAR
