BEGIN:VCALENDAR
VERSION:2.0
PRODID:-//ChamberMaster//Event Calendar 2.0//EN
METHOD:PUBLISH
X-PUBLISHED-TTL:P3D
REFRESH-INTERVAL:P3D
CALSCALE:GREGORIAN
BEGIN:VEVENT
DTSTART:20140309T150000Z
DTEND:20140309T180000Z
X-MICROSOFT-CDO-ALLDAYEVENT:FALSE
SUMMARY:Brunch in the Woods
DESCRIPTION:Come join us for our monthly "Brunch in the Woods" buffet.\n\n Cost: $12.50 per adult \n$10.00 per Seniors 60+ \n$5.00 per Child ages 4 - 11 Children ages 3 and under eat for free. \n\nFor groups of 8or more\, please call us to reserve your time and  table \n\n(815) 284-6979
X-ALT-DESC;FMTTYPE=text/html:Come join us for our monthly "Brunch in the Woods" buffet.\n\n Cost: $12.50 per adult \n$10.00 per Seniors 60+ \n$5.00 per Child ages 4 - 11 Children ages 3 and under eat for free. \n\nFor groups of 8or more\, please call us to reserve your time and  table \n\n(815) 284-6979
LOCATION:Reynoldswood Christian Camp and Retreat Center621 Reynoldswood Road Dixon\, IL 61021
UID:e.2843.37
SEQUENCE:3
DTSTAMP:20260422T062116Z
URL:https://member.quadcitieschamber.com/events/details/brunch-in-the-woods-03-09-2014-37
END:VEVENT

END:VCALENDAR
