BEGIN:VCALENDAR
VERSION:2.0
PRODID:-//ChamberMaster//Event Calendar 2.0//EN
METHOD:PUBLISH
X-PUBLISHED-TTL:P3D
REFRESH-INTERVAL:P3D
CALSCALE:GREGORIAN
BEGIN:VEVENT
DTSTART:20121102T163000Z
DTEND:20121102T170000Z
X-MICROSOFT-CDO-ALLDAYEVENT:FALSE
SUMMARY:Bucktown Center for the Arts Grand Re-Opening and Ribbon Cutting
DESCRIPTION:Please help celebrate the Grand Re-Opening of Bucktown Center for the Arts with a ribbon cutting on Friday\, November 2nd at 11:30am.  Located at 225 E. 2nd Street in Davenport. Immediately following the ribbon cutting will be an arts demonstration\, music and light refreshments!
X-ALT-DESC;FMTTYPE=text/html:<P style="MARGIN: 0in 0in 0pt" class=MsoNormal><FONT face=Calibri>Please help celebrate the Grand Re-Opening of Bucktown Center for the Arts with a ribbon cutting on Friday\, November 2<SUP>nd</SUP> at 11:30am.<SPAN style="mso-spacerun: yes">&nbsp\; </SPAN>Located at 225 E. 2<SUP>nd</SUP> Street in Davenport.</FONT></P><P style="MARGIN: 0in 0in 0pt" class=MsoNormal><?xml:namespace prefix = o ns = "urn:schemas-microsoft-com:office:office" /><o:p><FONT face=Calibri>&nbsp\;</FONT></o:p></P><P style="MARGIN: 0in 0in 0pt" class=MsoNormal><FONT face=Calibri>Immediately following the ribbon cutting will be an arts demonstration\, music and light refreshments!</FONT></P><DIV style="FONT-FAMILY: Arial">&nbsp\;</DIV>
LOCATION:Bucktown Center for the Arts225 E. 2nd Street Davenport\, IA 52801
UID:e.2843.468
SEQUENCE:3
DTSTAMP:20260421T152833Z
URL:https://member.quadcitieschamber.com/events/details/bucktown-center-for-the-arts-grand-re-opening-and-ribbon-cutting-11-02-2012-468
END:VEVENT

END:VCALENDAR
