BEGIN:VCALENDAR
VERSION:2.0
PRODID:-//ChamberMaster//Event Calendar 2.0//EN
METHOD:PUBLISH
X-PUBLISHED-TTL:P3D
REFRESH-INTERVAL:P3D
CALSCALE:GREGORIAN
BEGIN:VEVENT
DTSTART:20190514T133000Z
DTEND:20190515T213000Z
X-MICROSOFT-CDO-ALLDAYEVENT:FALSE
SUMMARY:Building Effective Teams
DESCRIPTION:Through exploration of the theory and practice of team development within organizations\, participants gain an understanding of how and when to develop high-performance teams. Special emphasis will be on developing the knowledge\, skills and abilities to facilitate teams. A connection will be drawn between team building\, communication and leadership. This workshop will examine issues and develop strategies for team building within your organization.
X-ALT-DESC;FMTTYPE=text/html:Through exploration of the theory and practice of team development within organizations\, participants gain an understanding of how and when to develop high-performance teams. Special emphasis will be on developing the knowledge\, skills and abilities to facilitate teams. A connection will be drawn between team building\, communication and leadership. This workshop will examine issues and develop strategies for team building within your organization.
LOCATION:1950 E. 54th St.\, Davenport\, IA 52807.
UID:e.2843.14298
SEQUENCE:3
DTSTAMP:20260422T145034Z
URL:https://member.quadcitieschamber.com/events/details/building-effective-teams-14298
END:VEVENT

END:VCALENDAR
