BEGIN:VCALENDAR
VERSION:2.0
PRODID:-//ChamberMaster//Event Calendar 2.0//EN
METHOD:PUBLISH
X-PUBLISHED-TTL:P3D
REFRESH-INTERVAL:P3D
CALSCALE:GREGORIAN
BEGIN:VEVENT
DTSTART:20140116T230000Z
DTEND:20140117T010000Z
X-MICROSOFT-CDO-ALLDAYEVENT:FALSE
SUMMARY:Business After Hours
DESCRIPTION:The first after-hours of 2014 will be the place to be as you experience one of the Quad Cities' newest hotspots! Enjoy the comfort and style of the newly opened Me & Billy {Kitchen & Bar} for appetizers and drinks while networking with Chamber friends.  Time: 5:00-7:00 p.m.Cost: $10 for members pre-paid\; $15 for members at the door\; $20 for non-members
X-ALT-DESC;FMTTYPE=text/html:<P style="MARGIN: 0in 0in 0pt" class=MsoNormal><FONT face=Verdana>The first after-hours of 2014 will be the place to be as you experience one of the Quad Cities' newest hotspots! Enjoy the comfort and style of the newly opened Me &amp\; Billy {Kitchen &amp\; Bar} for appetizers and drinks while networking with Chamber friends. </FONT></P><P style="MARGIN: 0in 0in 0pt" class=MsoNormal><?xml:namespace prefix = o ns = "urn:schemas-microsoft-com:office:office" /><o:p><FONT face=Verdana>&nbsp\;</FONT></o:p></P><P style="MARGIN: 0in 0in 0pt" class=MsoNormal><FONT face=Verdana><STRONG>Time:</STRONG> 5:00-7:00 p.m.</FONT></P><P style="MARGIN: 0in 0in 0pt" class=MsoNormal><FONT face=Verdana><STRONG>Cost:</STRONG> $10 for members pre-paid\; $15 for members at the door\; $20 for non-members</FONT></P><P style="MARGIN: 0in 0in 0pt" class=MsoNormal><P style="MARGIN: 0in 0in 0pt" class=MsoNormal><STRONG><FONT face=Verdana></FONT></STRONG></P></P>
LOCATION:Me & Billy {Kitchen and Bar}200 W. 3rd St. Davenport\, IA 52801
UID:e.2843.765
SEQUENCE:3
DTSTAMP:20260422T012922Z
URL:https://member.quadcitieschamber.com/events/details/business-after-hours-01-16-2014-765
END:VEVENT

END:VCALENDAR
