BEGIN:VCALENDAR
VERSION:2.0
PRODID:-//ChamberMaster//Event Calendar 2.0//EN
METHOD:PUBLISH
X-PUBLISHED-TTL:P3D
REFRESH-INTERVAL:P3D
CALSCALE:GREGORIAN
BEGIN:VEVENT
DTSTART:20120209T230000Z
DTEND:20120210T010000Z
X-MICROSOFT-CDO-ALLDAYEVENT:FALSE
SUMMARY:Business After Hours
DESCRIPTION:Connect with Quad Cities professionals at this fun and casual after-hours networking event. \nDon't forget your business cards! Sponsored By:Big Dog ConstructionCatering Sponsored By:Qdoba Mexican Grill Moline
X-ALT-DESC;FMTTYPE=text/html:<P><FONT face=Tahoma>Connect with Quad Cities professionals at this fun and casual after-hours networking event. </FONT></P><FONT face=Tahoma></FONT><FONT face=Tahoma><P><BR>Don't forget your business cards!</P><P>&nbsp\;</P><P><STRONG>Sponsored By:</STRONG></P><P>Big Dog Construction</P><P><STRONG>Catering Sponsored By:</STRONG></P><P>Qdoba Mexican Grill Moline </FONT></P>
LOCATION:Executive Square400 N. Main St.\, Ste. 300 Davenport\, IA 52801
UID:e.2843.216
SEQUENCE:3
DTSTAMP:20260422T080339Z
URL:https://member.quadcitieschamber.com/events/details/business-after-hours-02-09-2012-216
END:VEVENT

END:VCALENDAR
