BEGIN:VCALENDAR
VERSION:2.0
PRODID:-//ChamberMaster//Event Calendar 2.0//EN
METHOD:PUBLISH
X-PUBLISHED-TTL:P3D
REFRESH-INTERVAL:P3D
CALSCALE:GREGORIAN
BEGIN:VEVENT
DTSTART:20120308T230000Z
DTEND:20120309T010000Z
X-MICROSOFT-CDO-ALLDAYEVENT:FALSE
SUMMARY:Business After Hours
DESCRIPTION:Connect with Quad Cities professionals at this fun and casual after-hours networking event.  US Adventure RV is excited to host this month’s After-Hours event as a chance to showcase their 30\,000 square foot show room\, home to Iowa’s largest motorhome dealer. Don't forget your business cards! Click here to see who has already registered for this event!  Sponsored By:\nUS Adventure RV\n\nCatering Sponsored By:Happy Joes Jungle Bungle
X-ALT-DESC;FMTTYPE=text/html:<P><FONT face=Tahoma>Connect with Quad Cities professionals at this fun and casual after-hours networking event. </FONT></P><P>&nbsp\;</P><P><FONT face=Tahoma>US Adventure RV is excited to host this month’s <SPAN style="mso-bidi-font-family: Calibri">After-Hours event as a chance to showcase their 30\,000 square foot show room\, home to Iowa’s largest motorhome dealer.</SPAN></FONT></P><P><FONT face=Tahoma><SPAN style="mso-bidi-font-family: Calibri"></SPAN></FONT>&nbsp\;</P><P><FONT face=Tahoma><SPAN style="mso-bidi-font-family: Calibri"></SPAN></FONT><FONT face=Tahoma>Don't forget your business cards!</FONT></P><P><FONT face=Tahoma></FONT>&nbsp\;</P><P><FONT face=Tahoma><A style="COLOR: blue\; TEXT-DECORATION: underline" title="" dataFld=0:0 href="http://events.quadcitieschamber.com/sbaweb/common/attendees.asp?eventcode=BAH 03/12" target=_self>Click here</A> to see who has already registered for this event!</FONT> </P><P><FONT face=Tahoma></FONT>&nbsp\;</P><P align=left><FONT face=Tahoma><STRONG>Sponsored By:<BR></STRONG>US Adventure RV<BR><BR><STRONG>Catering Sponsored By:</STRONG></FONT></P><P align=left><FONT face=Tahoma>Happy Joes Jungle Bungle </FONT></P>
LOCATION:US Adventure RV5120 N. Brady St. Davenport\, IA 52806
UID:e.2843.217
SEQUENCE:3
DTSTAMP:20260422T061314Z
URL:https://member.quadcitieschamber.com/events/details/business-after-hours-03-08-2012-217
END:VEVENT

END:VCALENDAR
