BEGIN:VCALENDAR
VERSION:2.0
PRODID:-//ChamberMaster//Event Calendar 2.0//EN
METHOD:PUBLISH
X-PUBLISHED-TTL:P3D
REFRESH-INTERVAL:P3D
CALSCALE:GREGORIAN
BEGIN:VEVENT
DTSTART:20110811T220000Z
DTEND:20110812T000000Z
X-MICROSOFT-CDO-ALLDAYEVENT:FALSE
SUMMARY:Business After Hours
DESCRIPTION:Connect with Quad Cities professionals at this fun and casual after-hours networking event.  Don't forget your business cards.
X-ALT-DESC;FMTTYPE=text/html:Connect with Quad Cities professionals at this fun and casual after-hours networking event.  Don't forget your business cards.
LOCATION:Harrington's Pub2319 Cumberland Square Dr. Bettendorf\, IA 52722
UID:e.2843.156
SEQUENCE:3
DTSTAMP:20260422T161753Z
URL:https://member.quadcitieschamber.com/events/details/business-after-hours-08-11-2011-156
END:VEVENT

END:VCALENDAR
