BEGIN:VCALENDAR
VERSION:2.0
PRODID:-//ChamberMaster//Event Calendar 2.0//EN
METHOD:PUBLISH
X-PUBLISHED-TTL:P3D
REFRESH-INTERVAL:P3D
CALSCALE:GREGORIAN
BEGIN:VEVENT
DTSTART:20111208T230000Z
DTEND:20111209T010000Z
X-MICROSOFT-CDO-ALLDAYEVENT:FALSE
SUMMARY:Business After Hours
DESCRIPTION:Connect with Quad Cities professionals at this fun and casual after-hours networking event.  Don't forget your business cards.
X-ALT-DESC;FMTTYPE=text/html:Connect with Quad Cities professionals at this fun and casual after-hours networking event.  Don't forget your business cards.
LOCATION:The New Greenbriar Restaurant and Lounge4506 27th Street Moline\, IL 61265
UID:e.2843.189
SEQUENCE:3
DTSTAMP:20260422T111008Z
URL:https://member.quadcitieschamber.com/events/details/business-after-hours-12-08-2011-189
END:VEVENT

END:VCALENDAR
