BEGIN:VCALENDAR
VERSION:2.0
PRODID:-//ChamberMaster//Event Calendar 2.0//EN
METHOD:PUBLISH
X-PUBLISHED-TTL:P3D
REFRESH-INTERVAL:P3D
CALSCALE:GREGORIAN
BEGIN:VEVENT
DTSTART:20110609T220000Z
DTEND:20110610T020000Z
X-MICROSOFT-CDO-ALLDAYEVENT:FALSE
SUMMARY:Business After Hours/19th Hole Party
DESCRIPTION:Join the Chamber outing golfers at the 19th Hole Party!  Enjoy food\, drinks and live music at Pinnacle Country Club!
X-ALT-DESC;FMTTYPE=text/html:Join the Chamber outing golfers at the 19th Hole Party!  Enjoy food\, drinks and live music at Pinnacle Country Club!
LOCATION:Pinnacle Country Club11928 Knoxville Road Milan\, IL 61264
UID:e.2843.155
SEQUENCE:3
DTSTAMP:20260422T193611Z
URL:https://member.quadcitieschamber.com/events/details/business-after-hours-19th-hole-party-06-09-2011-155
END:VEVENT

END:VCALENDAR
