BEGIN:VCALENDAR
VERSION:2.0
PRODID:-//ChamberMaster//Event Calendar 2.0//EN
METHOD:PUBLISH
X-PUBLISHED-TTL:P3D
REFRESH-INTERVAL:P3D
CALSCALE:GREGORIAN
BEGIN:VEVENT
DTSTART:20130411T220000Z
DTEND:20130412T000000Z
X-MICROSOFT-CDO-ALLDAYEVENT:FALSE
SUMMARY:Business After Hours: April 2013
DESCRIPTION:Celebrate 75 years of success with Dahl Ford at K.V. & Vinje Dahls' private antique car collection for this exclusive Business After-Hours. Join us at Dahl's Old Car Home for an evening of creating relationships\, building connections and fine automobiles. Location: Dahl Ford “Old Car Home” (5215 Grand Avenue\, Davenport)Time: 5:00-7:00 p.m.Cost: $10 for members pre-paid\; $15 for members at the door\; $20 for non-membersSponsor: Dahl Ford 48 Hour Cancellation NoticeA cancellation of registration must be received 48 hours or more before an event to receive a refund.  Participant substitutions are accepted at no extra charge.  For questions regarding this event\, please contact Jeanna Trenkamp at 563.823.2692 or jtrenkamp@QuadCitiesChamber.com. Click here to see who has already registered for this event!
X-ALT-DESC;FMTTYPE=text/html:<P style="MARGIN: 0in 0in 0pt" class=MsoNormal><FONT face=Calibri>Celebrate 75 years of success with Dahl Ford at K.V. &amp\; Vinje Dahls' private antique car collection for this exclusive Business After-Hours. Join us at Dahl's Old Car Home for an evening of creating relationships\, building connections and fine automobiles.</FONT></P><P style="MARGIN: 0in 0in 0pt" class=MsoNormal><FONT face=Calibri><B style="mso-bidi-font-weight: normal"></B></FONT>&nbsp\;</P><P style="MARGIN: 0in 0in 0pt" class=MsoNormal><FONT face=Calibri><B style="mso-bidi-font-weight: normal">Location:</B> Dahl Ford “Old Car Home” (5215 Grand Avenue\, Davenport)<?xml:namespace prefix = o ns = "urn:schemas-microsoft-com:office:office" /><o:p></o:p></FONT></P><P style="MARGIN: 0in 0in 0pt" class=MsoNormal><FONT face=Calibri><B style="mso-bidi-font-weight: normal">Time:</B> 5:00-7:00 p.m.<o:p></o:p></FONT></P><P style="MARGIN: 0in 0in 0pt" class=MsoNormal><FONT face=Calibri><B style="mso-bidi-font-weight: normal">Cost:</B> $10 for members pre-paid\; $15 for members at the door\; $20 for non-members<o:p></o:p></FONT></P><P style="MARGIN: 0in 0in 0pt" class=MsoNormal><FONT face=Calibri><STRONG>Sponsor:</STRONG> Dahl Ford</FONT></P><P style="MARGIN: 0in 0in 0pt" class=MsoNormal><FONT face=Calibri></FONT>&nbsp\;</P><P style="MARGIN: 0in 0in 0pt" class=MsoNormal><SPAN style="FONT-FAMILY: 'Arial'\,'sans-serif'\; FONT-SIZE: 12pt"><SPAN style="FONT-FAMILY: 'Arial'\,'sans-serif'\; FONT-SIZE: 12pt"><SPAN style="FONT-FAMILY: 'Arial'\,'sans-serif'\; FONT-SIZE: 10pt\; mso-fareast-font-family: 'Times New Roman'"><SPAN style="COLOR: #0f0f0f\; FONT-SIZE: 10pt\; mso-fareast-font-family: 'Times New Roman'\; mso-bidi-font-family: 'Times New Roman'"><FONT face=Calibri></P><P style="TEXT-ALIGN: center\; MARGIN: 0in 0in 0pt" class=MsoNormal align=center><SPAN style="COLOR: #0f0f0f\; FONT-SIZE: 10pt\; mso-ascii-font-family: Calibri\; mso-ascii-theme-font: minor-latin\; mso-hansi-font-family: Calibri\; mso-hansi-theme-font: minor-latin"><U>48 Hour Cancellation Notice<o:p></o:p></U></SPAN></P><P style="TEXT-ALIGN: center\; MARGIN: 0in 0in 0pt" class=MsoNormal align=center><SPAN style="COLOR: #0f0f0f\; FONT-SIZE: 10pt\; mso-ascii-font-family: Calibri\; mso-ascii-theme-font: minor-latin\; mso-hansi-font-family: Calibri\; mso-hansi-theme-font: minor-latin">A cancellation of registration must be received 48 hours or more before an event to receive a refund.&nbsp\; <o:p></o:p></SPAN></P><P style="TEXT-ALIGN: center\; MARGIN: 0in 0in 0pt" class=MsoNormal align=center><SPAN style="COLOR: #333333\; FONT-SIZE: 10pt\; mso-bidi-font-family: Arial\; mso-ascii-font-family: Calibri\; mso-ascii-theme-font: minor-latin\; mso-hansi-font-family: Calibri\; mso-hansi-theme-font: minor-latin">Participant substitutions are accepted at no extra charge.</SPAN><SPAN style="COLOR: black\; FONT-SIZE: 10pt\; mso-ascii-font-family: Calibri\; mso-ascii-theme-font: minor-latin\; mso-hansi-font-family: Calibri\; mso-hansi-theme-font: minor-latin"><o:p></o:p></SPAN></P><P style="TEXT-ALIGN: center\; LINE-HEIGHT: normal\; MARGIN: 0in 0in 0pt" class=MsoNormal align=center></FONT></SPAN><SPAN style="LINE-HEIGHT: 115%\; FONT-SIZE: 10pt"><o:p><FONT color=#000000 face=Calibri></FONT></o:p></SPAN><FONT color=#333333>&nbsp\;</FONT></P><P style="TEXT-ALIGN: center\; LINE-HEIGHT: normal\; MARGIN: 0in 0in 0pt" class=MsoNormal align=center><SPAN style="LINE-HEIGHT: 115%\; FONT-SIZE: 10pt"><o:p>&nbsp\;</o:p></SPAN></P><P style="TEXT-ALIGN: center\; MARGIN: 0in 0in 10pt" class=MsoNormal align=center><SPAN style="LINE-HEIGHT: 115%\; FONT-SIZE: 10pt"><FONT color=#000000 face=Calibri>For questions regarding this event\, please contact Jeanna Trenkamp at 563.823.2692 or </FONT><A href="mailto:jtrenkamp@QuadCitiesChamber.com"><FONT face=Calibri>jtrenkamp@QuadCitiesChamber.com</FONT></A><FONT color=#000000><FONT face=Calibri>.<o:p></o:p></FONT></FONT></SPAN></P><P style="MARGIN: 0in 0in 0pt"></SPAN></SPAN></SPAN>&nbsp\;</P><SPAN style="COLOR: #333333\; FONT-SIZE: 14pt"><SPAN style="FONT-FAMILY: 'Arial'\,'sans-serif'\; FONT-SIZE: 12pt"><SPAN style="COLOR: #333333"><FONT size=2 face="Times New Roman"></FONT></SPAN></SPAN></SPAN></SPAN><SPAN style="COLOR: #333333"><P style="MARGIN: 0in 0in 0pt" align=center><SPAN style="COLOR: #333333"></SPAN><SPAN style="FONT-FAMILY: 'Arial'\,'sans-serif'\; FONT-SIZE: 12pt"><SPAN style="FONT-FAMILY: 'Arial'\,'sans-serif'\; FONT-SIZE: 12pt"><SPAN style="FONT-FAMILY: 'Arial'\,'sans-serif'\; FONT-SIZE: 10pt\; mso-fareast-font-family: 'Times New Roman'"><A style="COLOR: blue\; TEXT-DECORATION: underline" title="" dataFld=0:0 href="http://events.quadcitieschamber.com/sbaweb/common/attendees.asp?eventcode=BAH 04/13" target=_self><SPAN style="COLOR: windowtext"><FONT face="Times New Roman">Click here</FONT></SPAN></A><FONT color=#000000><FONT face="Times New Roman"> to see who has already registered for this event! <o:p></o:p></FONT></FONT></SPAN></P></SPAN></SPAN><o:p></o:p></SPAN>
LOCATION:Dahl Ford Davenport\, Inc.1310 E. Kimberly Rd. Davenport\, IA 52808
UID:e.2843.501
SEQUENCE:3
DTSTAMP:20260421T104703Z
URL:https://member.quadcitieschamber.com/events/details/business-after-hours-april-2013-04-11-2013-501
END:VEVENT

END:VCALENDAR
